BEGIN:VCALENDAR
VERSION:2.0
PRODID:-//FCS - Basket Club de Campo - ECPv6.15.20//NONSGML v1.0//EN
CALSCALE:GREGORIAN
METHOD:PUBLISH
X-WR-CALNAME:FCS - Basket Club de Campo
X-ORIGINAL-URL:https://fcsbasket.com
X-WR-CALDESC:Eventos para FCS - Basket Club de Campo
REFRESH-INTERVAL;VALUE=DURATION:PT1H
X-Robots-Tag:noindex
X-PUBLISHED-TTL:PT1H
BEGIN:VTIMEZONE
TZID:UTC
BEGIN:STANDARD
TZOFFSETFROM:+0000
TZOFFSETTO:+0000
TZNAME:UTC
DTSTART:20240101T000000
END:STANDARD
END:VTIMEZONE
BEGIN:VEVENT
DTSTART;TZID=UTC:20260321T090000
DTEND;TZID=UTC:20260321T110000
DTSTAMP:20260421T112729
CREATED:20260304T084458Z
LAST-MODIFIED:20260319T114013Z
UID:10000204-1774083600-1774090800@fcsbasket.com
SUMMARY:BASKET CLUB DE CAMPO VS FC GAIA B SUB 16M
DESCRIPTION:09:00 21 MAR 2026
URL:https://fcsbasket.com/evento/basket-club-de-campo-vs-fc-gaia-b-sub-16m-2/
LOCATION:PAVILHÃO MUNICIPAL DE CAMPO\, Tv. de São Domingos 200\, Campo - Valongo\, Porto\, 4440-191\, Portugal
CATEGORIES:Jogo
ATTACH;FMTTYPE=image/jpeg:https://fcsbasket.com/wp-content/uploads/2026/03/FCS-GAIA-SUB16M.jpg
ORGANIZER;CN="Basket Club de Campo":MAILTO:coordenacao@fcsbasket.com
END:VEVENT
BEGIN:VEVENT
DTSTART;TZID=UTC:20251005T110000
DTEND;TZID=UTC:20251005T130000
DTSTAMP:20260421T112729
CREATED:20250926T151744Z
LAST-MODIFIED:20251003T122432Z
UID:10000136-1759662000-1759669200@fcsbasket.com
SUMMARY:FC GAIA A VS BASKET CLUB DE CAMPO SUB 14M
DESCRIPTION:11:00 05 OUT 2025
URL:https://fcsbasket.com/evento/fc-gaia-a-vs-basket-club-de-campo-sub-14m/
LOCATION:PAVILHÃO FUTEBOL CLUBE GAIA\, Rua Fialho de Almeida\, Vila Nova de Gaia\, Porto\, 4400-150\, Portugal
CATEGORIES:Jogo
ATTACH;FMTTYPE=image/jpeg:https://fcsbasket.com/wp-content/uploads/2025/09/GAIA-BCC-SUB14M.jpg
END:VEVENT
BEGIN:VEVENT
DTSTART;TZID=UTC:20251004T143000
DTEND;TZID=UTC:20251004T163000
DTSTAMP:20260421T112729
CREATED:20250926T151503Z
LAST-MODIFIED:20250926T160326Z
UID:10000134-1759588200-1759595400@fcsbasket.com
SUMMARY:BASKET CLUB DE CAMPO VS FC GAIA B SUB 16M
DESCRIPTION:14:30 04 OUT 2025
URL:https://fcsbasket.com/evento/basket-club-de-campo-vs-fc-gaia-b-sub-16m/
LOCATION:PAVILHÃO MUNICIPAL DE CAMPO\, Tv. de São Domingos 200\, Campo - Valongo\, Porto\, 4440-191\, Portugal
CATEGORIES:Jogo
ATTACH;FMTTYPE=image/jpeg:https://fcsbasket.com/wp-content/uploads/2025/09/BCC-GAIA-SUB16M.jpg
ORGANIZER;CN="Basket Club de Campo":MAILTO:coordenacao@fcsbasket.com
END:VEVENT
BEGIN:VEVENT
DTSTART;TZID=UTC:20250608T110000
DTEND;TZID=UTC:20250608T130000
DTSTAMP:20260421T112729
CREATED:20250606T093836Z
LAST-MODIFIED:20250606T100207Z
UID:10000124-1749380400-1749387600@fcsbasket.com
SUMMARY:FCS/BC CAMPO vs FC GAIA C  SUB 16M
DESCRIPTION:11:00 08 JUN 2025
URL:https://fcsbasket.com/evento/fcs-bc-campo-vs-fc-gaia-c-sub-16m/
LOCATION:PAVILHÃO MUNICIPAL DE SOBRADO\, Tv. de Campelo\, Sobrado\, 4440-452\, Portugal
CATEGORIES:Jogo
ATTACH;FMTTYPE=image/png:https://fcsbasket.com/wp-content/uploads/2025/06/FCS-FCGAIA-SUB16M.avif
ORGANIZER;CN="Basket Club de Campo":MAILTO:coordenacao@fcsbasket.com
END:VEVENT
BEGIN:VEVENT
DTSTART;TZID=UTC:20250504T090000
DTEND;TZID=UTC:20250504T090000
DTSTAMP:20260421T112729
CREATED:20250421T093059Z
LAST-MODIFIED:20250430T135510Z
UID:10000103-1746349200-1746349200@fcsbasket.com
SUMMARY:FC GAIA C vs FCS/BC CAMPO  SUB 16M
DESCRIPTION:09:00 04 MAI 2025
URL:https://fcsbasket.com/evento/fc-gaia-c-vs-fcs-bc-campo-sub-16m/
LOCATION:PAVILHÃO FUTEBOL CLUBE GAIA\, Rua Fialho de Almeida\, Vila Nova de Gaia\, Porto\, 4400-150\, Portugal
CATEGORIES:Jogo
ATTACH;FMTTYPE=image/jpeg:https://fcsbasket.com/wp-content/uploads/2025/04/FC-GAIA-FCS-SUB16M.avif
END:VEVENT
BEGIN:VEVENT
DTSTART;TZID=UTC:20250323T090000
DTEND;TZID=UTC:20250323T110000
DTSTAMP:20260421T112729
CREATED:20250313T154738Z
LAST-MODIFIED:20250313T154911Z
UID:10000082-1742720400-1742727600@fcsbasket.com
SUMMARY:FC GAIA B vs FCS/BC CAMPO SUB14 M
DESCRIPTION:09:00 23 MAR 2025
URL:https://fcsbasket.com/evento/fc-gaia-b-vs-fcs-bc-campo-sub14-m/
LOCATION:PAVILHÃO FUTEBOL CLUBE GAIA\, Rua Fialho de Almeida\, Vila Nova de Gaia\, Porto\, 4400-150\, Portugal
CATEGORIES:Jogo
ATTACH;FMTTYPE=image/jpeg:https://fcsbasket.com/wp-content/uploads/2025/02/fcgaia-fcs-sub14m.avif
END:VEVENT
END:VCALENDAR