BEGIN:VCALENDAR
VERSION:2.0
PRODID:-//FCS - Basket Club de Campo - ECPv6.15.20//NONSGML v1.0//EN
CALSCALE:GREGORIAN
METHOD:PUBLISH
X-ORIGINAL-URL:https://fcsbasket.com
X-WR-CALDESC:Eventos para FCS - Basket Club de Campo
REFRESH-INTERVAL;VALUE=DURATION:PT1H
X-Robots-Tag:noindex
X-PUBLISHED-TTL:PT1H
BEGIN:VTIMEZONE
TZID:UTC
BEGIN:STANDARD
TZOFFSETFROM:+0000
TZOFFSETTO:+0000
TZNAME:UTC
DTSTART:20250101T000000
END:STANDARD
END:VTIMEZONE
BEGIN:VEVENT
DTSTART;TZID=UTC:20260314T110000
DTEND;TZID=UTC:20260314T130000
DTSTAMP:20260419T150315
CREATED:20260304T084107Z
LAST-MODIFIED:20260311T084842Z
UID:10000201-1773486000-1773493200@fcsbasket.com
SUMMARY:BC VALENÇA VS BASKET CLUB DE CAMPO SUB 16M
DESCRIPTION:11:00 14 MAR 2026
URL:https://fcsbasket.com/evento/bc-valenca-vs-basket-club-de-campo-sub-16m/
LOCATION:PAVILHÃO M. VALENÇA\, Av. da Juventude\, Valença\, Valença\, 4930\, Portugal
CATEGORIES:Jogo
ATTACH;FMTTYPE=image/jpeg:https://fcsbasket.com/wp-content/uploads/2026/03/BCVALENCA-FCS-SUB16M.jpg
GEO:42.0296733;-8.6396641
X-APPLE-STRUCTURED-LOCATION;VALUE=URI;X-ADDRESS=PAVILHÃO M. VALENÇA Av. da Juventude Valença Valença 4930 Portugal;X-APPLE-RADIUS=500;X-TITLE=Av. da Juventude\, Valença:geo:-8.6396641,42.0296733
END:VEVENT
BEGIN:VEVENT
DTSTART;TZID=UTC:20260308T150000
DTEND;TZID=UTC:20260308T170000
DTSTAMP:20260419T150315
CREATED:20260304T083845Z
LAST-MODIFIED:20260306T085918Z
UID:10000200-1772982000-1772989200@fcsbasket.com
SUMMARY:BC VALENÇA VS BASKET CLUB DE CAMPO SUB 14F
DESCRIPTION:15:00 08 MAR 2026
URL:https://fcsbasket.com/evento/bc-valenca-vs-basket-club-de-campo-sub-14f/
LOCATION:PAVILHÃO M. VALENÇA\, Av. da Juventude\, Valença\, Valença\, 4930\, Portugal
CATEGORIES:Jogo
ATTACH;FMTTYPE=image/jpeg:https://fcsbasket.com/wp-content/uploads/2026/03/valenca-fcs-sub14f.jpg
GEO:42.0296733;-8.6396641
X-APPLE-STRUCTURED-LOCATION;VALUE=URI;X-ADDRESS=PAVILHÃO M. VALENÇA Av. da Juventude Valença Valença 4930 Portugal;X-APPLE-RADIUS=500;X-TITLE=Av. da Juventude\, Valença:geo:-8.6396641,42.0296733
END:VEVENT
END:VCALENDAR