BEGIN:VCALENDAR
VERSION:2.0
PRODID:-//FCS - Basket Club de Campo - ECPv6.15.20//NONSGML v1.0//EN
CALSCALE:GREGORIAN
METHOD:PUBLISH
X-ORIGINAL-URL:https://fcsbasket.com
X-WR-CALDESC:Eventos para FCS - Basket Club de Campo
REFRESH-INTERVAL;VALUE=DURATION:PT1H
X-Robots-Tag:noindex
X-PUBLISHED-TTL:PT1H
BEGIN:VTIMEZONE
TZID:UTC
BEGIN:STANDARD
TZOFFSETFROM:+0000
TZOFFSETTO:+0000
TZNAME:UTC
DTSTART:20240101T000000
END:STANDARD
END:VTIMEZONE
BEGIN:VEVENT
DTSTART;TZID=UTC:20251122T170000
DTEND;TZID=UTC:20251122T190000
DTSTAMP:20260419T142254
CREATED:20251121T092239Z
LAST-MODIFIED:20251121T092239Z
UID:10000156-1763830800-1763838000@fcsbasket.com
SUMMARY:BC LIMIENSE VS BASKET CLUB DE CAMPO SUB 18F
DESCRIPTION:17:00 22 NOV 2025
URL:https://fcsbasket.com/evento/bc-limiense-vs-basket-club-de-campo-sub-18f/
LOCATION:MUN. PONTE DE LIMA ALA NORTE\, Rua Francisco Sá Carneiro\, Ponte de Lima\, 4990-024\, Portugal
CATEGORIES:Jogo
ATTACH;FMTTYPE=image/jpeg:https://fcsbasket.com/wp-content/uploads/2025/11/limiense-fcs-sub18f.jpg
END:VEVENT
END:VCALENDAR