BEGIN:VCALENDAR
VERSION:2.0
PRODID:-//FCS - Basket Club de Campo - ECPv6.15.20//NONSGML v1.0//EN
CALSCALE:GREGORIAN
METHOD:PUBLISH
X-WR-CALNAME:FCS - Basket Club de Campo
X-ORIGINAL-URL:https://fcsbasket.com
X-WR-CALDESC:Eventos para FCS - Basket Club de Campo
REFRESH-INTERVAL;VALUE=DURATION:PT1H
X-Robots-Tag:noindex
X-PUBLISHED-TTL:PT1H
BEGIN:VTIMEZONE
TZID:UTC
BEGIN:STANDARD
TZOFFSETFROM:+0000
TZOFFSETTO:+0000
TZNAME:UTC
DTSTART:20240101T000000
END:STANDARD
END:VTIMEZONE
BEGIN:VEVENT
DTSTART;TZID=UTC:20260201T143000
DTEND;TZID=UTC:20260201T163000
DTSTAMP:20260420T093326
CREATED:20260109T091334Z
LAST-MODIFIED:20260109T091334Z
UID:10000183-1769956200-1769963400@fcsbasket.com
SUMMARY:AROSO B VS BASKET CLUB DE CAMPO SUB 14M
DESCRIPTION:14:30 01 FEV 2026
URL:https://fcsbasket.com/evento/aroso-b-vs-basket-club-de-campo-sub-14m/
LOCATION:ESCOLA EB23 MANOEL DE OLIVEIRA\, R. Robert Auzelle 134\, Porto\, Porto\, 4100-431\, Portugal
CATEGORIES:Jogo
END:VEVENT
BEGIN:VEVENT
DTSTART;TZID=UTC:20250531T143000
DTEND;TZID=UTC:20250531T163000
DTSTAMP:20260420T093326
CREATED:20250529T103249Z
LAST-MODIFIED:20250529T104702Z
UID:10000120-1748701800-1748709000@fcsbasket.com
SUMMARY:UAA AROSO B vs FCS/BC CAMPO  SUB 14M
DESCRIPTION:14:30 31 MAI 2025
URL:https://fcsbasket.com/evento/uaa-aroso-b-vs-fcs-bc-campo-sub-14m/
LOCATION:ESCOLA EB23 MANOEL DE OLIVEIRA\, R. Robert Auzelle 134\, Porto\, Porto\, 4100-431\, Portugal
CATEGORIES:Jogo
ATTACH;FMTTYPE=image/png:https://fcsbasket.com/wp-content/uploads/2024/12/UAA.FCS_.png
END:VEVENT
BEGIN:VEVENT
DTSTART;TZID=UTC:20250112T143000
DTEND;TZID=UTC:20250112T163000
DTSTAMP:20260420T093326
CREATED:20241209T143729Z
LAST-MODIFIED:20241209T144946Z
UID:10000043-1736692200-1736699400@fcsbasket.com
SUMMARY:UAA AROSO vs FCS/BC CAMPO SUB16 F
DESCRIPTION:14:30 12 JAN 2025
URL:https://fcsbasket.com/evento/uaa-aroso-vs-fcs-bc-campo-sub16-f/
LOCATION:ESCOLA EB23 MANOEL DE OLIVEIRA\, R. Robert Auzelle 134\, Porto\, Porto\, 4100-431\, Portugal
CATEGORIES:Jogo
ATTACH;FMTTYPE=image/png:https://fcsbasket.com/wp-content/uploads/2024/12/16f.uaa_.fcs_.png
END:VEVENT
BEGIN:VEVENT
DTSTART;TZID=UTC:20250104T183000
DTEND;TZID=UTC:20250104T203000
DTSTAMP:20260420T093326
CREATED:20241209T142652Z
LAST-MODIFIED:20241209T143301Z
UID:10000040-1736015400-1736022600@fcsbasket.com
SUMMARY:UAA AROSO B vs  FCS/BC CAMPO SUB14 M
DESCRIPTION:18:30 04 JAN 2025
URL:https://fcsbasket.com/evento/uaa-aroso-b-vs-fcs-bc-campo-sub14-m/
LOCATION:ESCOLA EB23 MANOEL DE OLIVEIRA\, R. Robert Auzelle 134\, Porto\, Porto\, 4100-431\, Portugal
CATEGORIES:Jogo
ATTACH;FMTTYPE=image/png:https://fcsbasket.com/wp-content/uploads/2024/12/UAA.FCS_.png
END:VEVENT
END:VCALENDAR