BEGIN:VCALENDAR
VERSION:2.0
PRODID:-//FCS - Basket Club de Campo - ECPv6.15.20//NONSGML v1.0//EN
CALSCALE:GREGORIAN
METHOD:PUBLISH
X-WR-CALNAME:FCS - Basket Club de Campo
X-ORIGINAL-URL:https://fcsbasket.com
X-WR-CALDESC:Eventos para FCS - Basket Club de Campo
REFRESH-INTERVAL;VALUE=DURATION:PT1H
X-Robots-Tag:noindex
X-PUBLISHED-TTL:PT1H
BEGIN:VTIMEZONE
TZID:UTC
BEGIN:STANDARD
TZOFFSETFROM:+0000
TZOFFSETTO:+0000
TZNAME:UTC
DTSTART:20240101T000000
END:STANDARD
END:VTIMEZONE
BEGIN:VEVENT
DTSTART;TZID=UTC:20250309T110000
DTEND;TZID=UTC:20250309T130000
DTSTAMP:20260420T203201
CREATED:20250217T141804Z
LAST-MODIFIED:20250305T121624Z
UID:10000076-1741518000-1741525200@fcsbasket.com
SUMMARY:CD AVES 1930 vs FCS/BC CAMPO SUB14 M
DESCRIPTION:11:00 09 MAR 2025
URL:https://fcsbasket.com/evento/cd-aves-1930-vs-fcs-bc-campo-sub14-m/
LOCATION:PAVILHÃO CLUBE DESPORTIVO DAS AVES 1930\, Rua António Martins Ribeiro\, 833\, VILA DAS AVES\, 4795-035\, Portugal
CATEGORIES:Jogo
ATTACH;FMTTYPE=image/jpeg:https://fcsbasket.com/wp-content/uploads/2025/02/aves-fcs-sub14m.avif
END:VEVENT
BEGIN:VEVENT
DTSTART;TZID=UTC:20250309T100000
DTEND;TZID=UTC:20250309T120000
DTSTAMP:20260420T203201
CREATED:20250217T141550Z
LAST-MODIFIED:20250305T121558Z
UID:10000075-1741514400-1741521600@fcsbasket.com
SUMMARY:FCS/BC CAMPO vs BC VALENÇA SUB14 F
DESCRIPTION:10:00 9 MAR 2025
URL:https://fcsbasket.com/evento/fcs-bc-campo-vs-bc-valenca-sub14-f/
LOCATION:PAVILHÃO MUNICIPAL DE CAMPO\, Tv. de São Domingos 200\, Campo - Valongo\, Porto\, 4440-191\, Portugal
CATEGORIES:Jogo
ATTACH;FMTTYPE=image/jpeg:https://fcsbasket.com/wp-content/uploads/2025/02/fcs-valenca-sub14f.avif
ORGANIZER;CN="Basket Club de Campo":MAILTO:coordenacao@fcsbasket.com
END:VEVENT
BEGIN:VEVENT
DTSTART;TZID=UTC:20250308T211500
DTEND;TZID=UTC:20250308T230000
DTSTAMP:20260420T203201
CREATED:20250204T095256Z
LAST-MODIFIED:20250305T105628Z
UID:10000069-1741468500-1741474800@fcsbasket.com
SUMMARY:MAIA BC vs FCS/BC CAMPO SENIORES F
DESCRIPTION:21:15 08 MAR 2025
URL:https://fcsbasket.com/evento/maia-bc-vs-fcs-bc-campo-seniores-f/
LOCATION:PAVILHÃO MUN. NORTECOOPE\, Rua Américo Santos Leite\, Maia\, 4470-011\, Portugal
CATEGORIES:Jogo
ATTACH;FMTTYPE=image/png:https://fcsbasket.com/wp-content/uploads/2025/02/MAIA-FCS-SENIORESF-png.avif
END:VEVENT
BEGIN:VEVENT
DTSTART;TZID=UTC:20250308T180000
DTEND;TZID=UTC:20250308T200000
DTSTAMP:20260420T203201
CREATED:20250204T095145Z
LAST-MODIFIED:20250207T084942Z
UID:10000068-1741456800-1741464000@fcsbasket.com
SUMMARY:CAA SALESIANOS vs FCS/BC CAMPO SUB16 M
DESCRIPTION:18:00 08 MAR 2025
URL:https://fcsbasket.com/evento/caa-salesianos-vs-fcs-bc-campo-sub16-m/
LOCATION:PAVILHÃO SALESIANOS DO PORTO\, Largo Padre Baltasar Guedes\, Porto\, Porto\, 4300-059\, Portugal
CATEGORIES:Jogo
ATTACH;FMTTYPE=image/png:https://fcsbasket.com/wp-content/uploads/2025/02/SALESIANOS-FCS-SUB16M-png.avif
END:VEVENT
BEGIN:VEVENT
DTSTART;TZID=UTC:20250302T183000
DTEND;TZID=UTC:20250302T203000
DTSTAMP:20260420T203201
CREATED:20250204T094916Z
LAST-MODIFIED:20250228T110024Z
UID:10000067-1740940200-1740947400@fcsbasket.com
SUMMARY:FCS/BC CAMPO vs AAUTAD SENIORES F
DESCRIPTION:18:30 2 MAR 2025
URL:https://fcsbasket.com/evento/fcs-bc-campo-vs-aautad-seniores-f-2/
LOCATION:PAVILHÃO DA BELA\, Rua Ilha das Flores 105\, Ermesinde\, 4445-416\, Portugal
CATEGORIES:Jogo
ATTACH;FMTTYPE=image/png:https://fcsbasket.com/wp-content/uploads/2025/02/FCS-AAUTAD-SENIORESF-png.avif
ORGANIZER;CN="Basket Club de Campo":MAILTO:coordenacao@fcsbasket.com
END:VEVENT
BEGIN:VEVENT
DTSTART;TZID=UTC:20250223T143000
DTEND;TZID=UTC:20250223T163000
DTSTAMP:20260420T203201
CREATED:20250217T141013Z
LAST-MODIFIED:20250217T145039Z
UID:10000074-1740321000-1740328200@fcsbasket.com
SUMMARY:CP NATAÇÃO vs FCS/BC CAMPO SUB14 F
DESCRIPTION:14:30 23 FEV 2025
URL:https://fcsbasket.com/evento/cp-natacao-vs-fcs-bc-campo-sub14-f/
LOCATION:PAVILHÃO MUNICIPAL ERMESINDE\, Rua do Clube de Propaganda de Natação\, 53\, Ermesinde\, 4445-380\, Portugal
CATEGORIES:Jogo
ATTACH;FMTTYPE=image/png:https://fcsbasket.com/wp-content/uploads/2025/02/CPN-FCS-SUB14F-png.avif
END:VEVENT
BEGIN:VEVENT
DTSTART;TZID=UTC:20250223T090000
DTEND;TZID=UTC:20250223T110000
DTSTAMP:20260420T203201
CREATED:20250217T140812Z
LAST-MODIFIED:20250217T145007Z
UID:10000073-1740301200-1740308400@fcsbasket.com
SUMMARY:FCS/BC CAMPO vs GUIFÕES SC SUB14 M
DESCRIPTION:09:00 23 FEV 2025
URL:https://fcsbasket.com/evento/fcs-bc-campo-vs-guifoes-sc-sub14-m/
LOCATION:PAVILHÃO MUNICIPAL DE CAMPO\, Tv. de São Domingos 200\, Campo - Valongo\, Porto\, 4440-191\, Portugal
CATEGORIES:Jogo
ATTACH;FMTTYPE=image/png:https://fcsbasket.com/wp-content/uploads/2025/02/FCS-GUIFOES-SUB14M-png.avif
ORGANIZER;CN="Basket Club de Campo":MAILTO:coordenacao@fcsbasket.com
END:VEVENT
BEGIN:VEVENT
DTSTART;TZID=UTC:20250222T173000
DTEND;TZID=UTC:20250222T193000
DTSTAMP:20260420T203201
CREATED:20250204T102431Z
LAST-MODIFIED:20250204T102644Z
UID:10000072-1740245400-1740252600@fcsbasket.com
SUMMARY:CP NATAÇÃO vs FCS/BC CAMPO SUB16 M
DESCRIPTION:17:30 22 FEV 2025
URL:https://fcsbasket.com/evento/cp-natacao-vs-fcs-bc-campo-sub16-m/
LOCATION:PAVILHÃO MUNICIPAL ERMESINDE\, Rua do Clube de Propaganda de Natação\, 53\, Ermesinde\, 4445-380\, Portugal
CATEGORIES:Jogo
ATTACH;FMTTYPE=image/png:https://fcsbasket.com/wp-content/uploads/2025/02/CPN-FCS-SUB-16-M-png.avif
END:VEVENT
BEGIN:VEVENT
DTSTART;TZID=UTC:20250222T161500
DTEND;TZID=UTC:20250222T183000
DTSTAMP:20260420T203201
CREATED:20250127T203226Z
LAST-MODIFIED:20250205T084353Z
UID:10000057-1740240900-1740249000@fcsbasket.com
SUMMARY:GICA vs FCS/BC CAMPO SUB16 F
DESCRIPTION:16:15 22 FEV 2025
URL:https://fcsbasket.com/evento/gica-vs-fcs-bc-campo-sub16-f/
LOCATION:PAVILHÃO GINÁSIO CLUBE DE ÁGUEDA\, Rua Celestino Net\, nº25\, Águeda\, 3750-126\, Portugal
CATEGORIES:Jogo
ATTACH;FMTTYPE=image/png:https://fcsbasket.com/wp-content/uploads/2025/01/GICA-FCS-SUB16F-png.avif
END:VEVENT
BEGIN:VEVENT
DTSTART;TZID=UTC:20250221T213000
DTEND;TZID=UTC:20250221T233000
DTSTAMP:20260420T203201
CREATED:20250204T094758Z
LAST-MODIFIED:20250207T084811Z
UID:10000066-1740173400-1740180600@fcsbasket.com
SUMMARY:CTM VILA POUCA DE AGUIAR vs FCS/BC CAMPO SENIORES F
DESCRIPTION:21:30 21 FEV 2025
URL:https://fcsbasket.com/evento/ctm-vila-pouca-de-aguiar-vs-fcs-bc-campo-seniores-f-2/
LOCATION:PAVILHÃO DESPORTIVO DR. GOMES DA COSTA\, Av. Dr. Carlos Alberto de Sousa 11\, Vila Pouca de Aguiar\, 5450-003\, Portugal
CATEGORIES:Jogo
ATTACH;FMTTYPE=image/png:https://fcsbasket.com/wp-content/uploads/2025/02/CTM-FCS-SENIORESF-png.avif
END:VEVENT
BEGIN:VEVENT
DTSTART;TZID=UTC:20250216T180000
DTEND;TZID=UTC:20250216T200000
DTSTAMP:20260420T203201
CREATED:20250127T203104Z
LAST-MODIFIED:20250204T102113Z
UID:10000056-1739728800-1739736000@fcsbasket.com
SUMMARY:GUIFÕES SC vs FCS/BC CAMPO SUB16 F
DESCRIPTION:18:00 16 FEV 2025
URL:https://fcsbasket.com/evento/guifoes-sc-vs-fcs-bc-campo-sub16-f/
LOCATION:PAVILHÃO ENG ANTÓNIO MAIA\, Rua Monte Castelo\, 636\, Guifões\, 4460-054\, Portugal
CATEGORIES:Jogo
ATTACH;FMTTYPE=image/png:https://fcsbasket.com/wp-content/uploads/2025/01/GUIFOES-FCS-SUB16F-png.avif
END:VEVENT
BEGIN:VEVENT
DTSTART;TZID=UTC:20250216T100000
DTEND;TZID=UTC:20250216T120000
DTSTAMP:20260420T203201
CREATED:20250204T094452Z
LAST-MODIFIED:20250214T221732Z
UID:10000065-1739700000-1739707200@fcsbasket.com
SUMMARY:FCS/BC CAMPO vs UAA AROSO C SUB16 M
DESCRIPTION:10:00 16 FEV 2025
URL:https://fcsbasket.com/evento/fcs-bc-campo-vs-uaa-aroso-c-sub16-m/
LOCATION:PAVILHÃO MUNICIPAL DE SOBRADO\, Tv. de Campelo\, Sobrado\, 4440-452\, Portugal
CATEGORIES:Jogo
ATTACH;FMTTYPE=image/png:https://fcsbasket.com/wp-content/uploads/2025/02/FCS-AROSO-SUB16M-png.avif
ORGANIZER;CN="Basket Club de Campo":MAILTO:coordenacao@fcsbasket.com
END:VEVENT
BEGIN:VEVENT
DTSTART;TZID=UTC:20250215T210000
DTEND;TZID=UTC:20250215T230000
DTSTAMP:20260420T203201
CREATED:20250204T094243Z
LAST-MODIFIED:20250214T221637Z
UID:10000063-1739653200-1739660400@fcsbasket.com
SUMMARY:FCS/BC CAMPO vs JUVEMAIA ACDC SENIORES F
DESCRIPTION:21:00 15 FEV 2025
URL:https://fcsbasket.com/evento/fcs-bc-campo-vs-juvemaia-acdc-seniores-f/
LOCATION:PAVILHÃO MUNICIPAL ERMESINDE\, Rua do Clube de Propaganda de Natação\, 53\, Ermesinde\, 4445-380\, Portugal
CATEGORIES:Jogo
ATTACH;FMTTYPE=image/png:https://fcsbasket.com/wp-content/uploads/2025/02/FCS-JUVEMAIA-SENIORESF-png.avif
ORGANIZER;CN="Basket Club de Campo":MAILTO:coordenacao@fcsbasket.com
END:VEVENT
BEGIN:VEVENT
DTSTART;TZID=UTC:20250209T163000
DTEND;TZID=UTC:20250209T183000
DTSTAMP:20260420T203201
CREATED:20250127T202658Z
LAST-MODIFIED:20250204T100534Z
UID:10000055-1739118600-1739125800@fcsbasket.com
SUMMARY:FCS/BC CAMPO vs SC BEIRA-MAR SUB16 F
DESCRIPTION:16:30 09 FEV 2015
URL:https://fcsbasket.com/evento/fcs-bc-campo-vs-sc-beira-mar-sub16-f/
LOCATION:PAVILHÃO MUNICIPAL DE CAMPO\, Tv. de São Domingos 200\, Campo - Valongo\, Porto\, 4440-191\, Portugal
CATEGORIES:Jogo
ATTACH;FMTTYPE=image/png:https://fcsbasket.com/wp-content/uploads/2025/01/FCS-BEIRA-MAR-SUB16F-png.avif
ORGANIZER;CN="Basket Club de Campo":MAILTO:coordenacao@fcsbasket.com
END:VEVENT
BEGIN:VEVENT
DTSTART;TZID=UTC:20250209T141500
DTEND;TZID=UTC:20250209T163000
DTSTAMP:20260420T203201
CREATED:20250202T194937Z
LAST-MODIFIED:20250204T100723Z
UID:10000061-1739110500-1739118600@fcsbasket.com
SUMMARY:CLUB 5BASKET vs FCS/BC CAMPO SUB16 M
DESCRIPTION:14:15 09 FEV 2025
URL:https://fcsbasket.com/evento/club-5basket-vs-fcs-bc-campo-sub16-m-2/
LOCATION:GINÁSIO ESCOLA BÁSICA E SECUNDÁRIA DO CERCO\, R. do Cerco do Porto 148\, Porto\, Porto\, 4300-113\, Portugal
CATEGORIES:Jogo
ATTACH;FMTTYPE=image/jpeg:https://fcsbasket.com/wp-content/uploads/2024/11/5basket-fcs.jpg
END:VEVENT
BEGIN:VEVENT
DTSTART;TZID=UTC:20250209T093000
DTEND;TZID=UTC:20250209T113000
DTSTAMP:20260420T203201
CREATED:20250202T195311Z
LAST-MODIFIED:20250207T084413Z
UID:10000062-1739093400-1739100600@fcsbasket.com
SUMMARY:JORNADAS MINIBASQUETE
DESCRIPTION:09 FEV 2025\, \n1º JOGO 9:30\, \n2º JOGO 10:30\,
URL:https://fcsbasket.com/evento/jornadas-minibasquete/
LOCATION:PAVILHÃO MUNICIPAL NOGUEIRA DA MAIA\, R. Eusébio da Silva Ferreira\, Milheirós\, 4475-457\, Portugal
CATEGORIES:Jogo
ATTACH;FMTTYPE=image/png:https://fcsbasket.com/wp-content/uploads/2025/02/MINIBASQUETE-png.avif
END:VEVENT
BEGIN:VEVENT
DTSTART;TZID=UTC:20250202T143000
DTEND;TZID=UTC:20250202T163000
DTSTAMP:20260420T203201
CREATED:20250110T140037Z
LAST-MODIFIED:20250110T141358Z
UID:10000052-1738506600-1738513800@fcsbasket.com
SUMMARY:CP NATAÇÃO vs FCS/BC CAMPO SUB14 M
DESCRIPTION:14:30 2 FEV 2025
URL:https://fcsbasket.com/evento/cp-natacao-vs-fcs-bc-campo-sub14-m/
LOCATION:PAVILHÃO MUNICIPAL ERMESINDE\, Rua do Clube de Propaganda de Natação\, 53\, Ermesinde\, 4445-380\, Portugal
CATEGORIES:Jogo
ATTACH;FMTTYPE=image/png:https://fcsbasket.com/wp-content/uploads/2025/01/CPN-FCS-SUB-14-M-png.avif
END:VEVENT
BEGIN:VEVENT
DTSTART;TZID=UTC:20250131T213000
DTEND;TZID=UTC:20250131T223000
DTSTAMP:20260420T203201
CREATED:20250126T125132Z
LAST-MODIFIED:20250130T154043Z
UID:10000054-1738359000-1738362600@fcsbasket.com
SUMMARY:CLUB 5BASKET vs FCS/BC CAMPO SUB14 M
DESCRIPTION:21:30 31 JAN 2025
URL:https://fcsbasket.com/evento/club-5basket-vs-fcs-bc-campo-sub14-m/
LOCATION:PAVILHÃO MUNICIPAL DE CAMPO\, Tv. de São Domingos 200\, Campo - Valongo\, Porto\, 4440-191\, Portugal
CATEGORIES:Jogo
ATTACH;FMTTYPE=image/png:https://fcsbasket.com/wp-content/uploads/2025/01/5BASKET-FCS-SUB-14-M-png.avif
END:VEVENT
BEGIN:VEVENT
DTSTART;TZID=UTC:20250125T143000
DTEND;TZID=UTC:20250125T163000
DTSTAMP:20260420T203201
CREATED:20250110T135753Z
LAST-MODIFIED:20250110T141157Z
UID:10000051-1737815400-1737822600@fcsbasket.com
SUMMARY:FCS/BC CAMPO vs UAA AROSO B SUB14 F
DESCRIPTION:14:30 25 JAN 2025
URL:https://fcsbasket.com/evento/fcs-bc-campo-vs-uaa-aroso-b-sub14-f/
LOCATION:PAVILHÃO MUNICIPAL DE CAMPO\, Tv. de São Domingos 200\, Campo - Valongo\, Porto\, 4440-191\, Portugal
CATEGORIES:Jogo
ATTACH;FMTTYPE=image/png:https://fcsbasket.com/wp-content/uploads/2025/01/FCS-UAA-SUB-14-F-png.avif
ORGANIZER;CN="Basket Club de Campo":MAILTO:coordenacao@fcsbasket.com
END:VEVENT
BEGIN:VEVENT
DTSTART;TZID=UTC:20250125T090000
DTEND;TZID=UTC:20250125T110000
DTSTAMP:20260420T203201
CREATED:20250110T135653Z
LAST-MODIFIED:20250110T141123Z
UID:10000050-1737795600-1737802800@fcsbasket.com
SUMMARY:FCS/BC CAMPO vs UAA AROSO B SUB14 M
DESCRIPTION:09:00 25 JAN 2025
URL:https://fcsbasket.com/evento/fcs-bc-campo-vs-uaa-aroso-b-sub14-m/
LOCATION:PAVILHÃO MUNICIPAL DE CAMPO\, Tv. de São Domingos 200\, Campo - Valongo\, Porto\, 4440-191\, Portugal
CATEGORIES:Jogo
ATTACH;FMTTYPE=image/png:https://fcsbasket.com/wp-content/uploads/2025/01/FCS-UAA-SUB-14-M-png.avif
ORGANIZER;CN="Basket Club de Campo":MAILTO:coordenacao@fcsbasket.com
END:VEVENT
BEGIN:VEVENT
DTSTART;TZID=UTC:20250119T143000
DTEND;TZID=UTC:20250119T163000
DTSTAMP:20260420T203201
CREATED:20250110T135532Z
LAST-MODIFIED:20250110T141049Z
UID:10000049-1737297000-1737304200@fcsbasket.com
SUMMARY:CLUB 5BASKET B vs FCS/BC CAMPO SUB14 M
DESCRIPTION:14:30 19 JAN 2025
URL:https://fcsbasket.com/evento/club-5basket-b-vs-fcs-bc-campo-sub14-m/
LOCATION:PAVILHÃO MUNICIPAL SÃO PEDRO DA COVA\, Tv. das Azáleas 246\, São Pedro da Cova\, 4510-246\, Portugal
CATEGORIES:Jogo
ATTACH;FMTTYPE=image/png:https://fcsbasket.com/wp-content/uploads/2025/01/5BASKET-FCS-SUB-14-M-png.avif
END:VEVENT
BEGIN:VEVENT
DTSTART;TZID=UTC:20250119T114500
DTEND;TZID=UTC:20250119T133000
DTSTAMP:20260420T203201
CREATED:20250118T172013Z
LAST-MODIFIED:20250118T172812Z
UID:10000053-1737287100-1737293400@fcsbasket.com
SUMMARY:FCS/BC CAMPO vs NCR VALONGO SUB16 F
DESCRIPTION:11:45 19 JAN 2025
URL:https://fcsbasket.com/evento/fcs-bc-campo-vs-ncr-valongo-sub16-f/
LOCATION:PAVILHÃO MUNICIPAL GUIFÕES\, R. Passos Manuel\, Guifões\, Porto\, Portugal
CATEGORIES:Jogo
ATTACH;FMTTYPE=image/png:https://fcsbasket.com/wp-content/uploads/2025/01/FCS-NCR-SUB16F-png.avif
ORGANIZER;CN="Basket Club de Campo":MAILTO:coordenacao@fcsbasket.com
GEO:41.1991168;-8.6656022
X-APPLE-STRUCTURED-LOCATION;VALUE=URI;X-ADDRESS=PAVILHÃO MUNICIPAL GUIFÕES R. Passos Manuel Guifões Porto Portugal;X-APPLE-RADIUS=500;X-TITLE=R. Passos Manuel:geo:-8.6656022,41.1991168
END:VEVENT
BEGIN:VEVENT
DTSTART;TZID=UTC:20250118T164500
DTEND;TZID=UTC:20250118T183000
DTSTAMP:20260420T203201
CREATED:20250110T135121Z
LAST-MODIFIED:20250116T171120Z
UID:10000048-1737218700-1737225000@fcsbasket.com
SUMMARY:MAIA BC vs FCS/BC CAMPO SUB14 F
DESCRIPTION:16:45 18 JAN 2025
URL:https://fcsbasket.com/evento/maia-bc-vs-fcs-bc-campo-sub14-f/
LOCATION:PAVILHÃO MUNICIPAL DE PEDROUÇOS 13\, R. Margarida Ferreira de Araújo Guimarães\, Pedrouços\, Maia\, 4425-296\, Portugal
CATEGORIES:Jogo
ATTACH;FMTTYPE=image/png:https://fcsbasket.com/wp-content/uploads/2025/01/MAIA-FCS-SUB-14-F-1-png.avif
END:VEVENT
BEGIN:VEVENT
DTSTART;TZID=UTC:20250118T143000
DTEND;TZID=UTC:20250118T163000
DTSTAMP:20260420T203201
CREATED:20250110T134913Z
LAST-MODIFIED:20250110T140929Z
UID:10000047-1737210600-1737217800@fcsbasket.com
SUMMARY:FCS/BC CAMPO vs GD BOLACESTO SUB16 F
DESCRIPTION:14:30 18 JAN 2025
URL:https://fcsbasket.com/evento/fcs-bc-campo-vs-gd-bolacesto-sub16-f/
LOCATION:PAVILHÃO MUNICIPAL DE CAMPO\, Tv. de São Domingos 200\, Campo - Valongo\, Porto\, 4440-191\, Portugal
CATEGORIES:Jogo
ATTACH;FMTTYPE=image/png:https://fcsbasket.com/wp-content/uploads/2025/01/FCS-BOLA-CESTO-SUB-16-F-png.avif
ORGANIZER;CN="Basket Club de Campo":MAILTO:coordenacao@fcsbasket.com
END:VEVENT
BEGIN:VEVENT
DTSTART;TZID=UTC:20250112T183000
DTEND;TZID=UTC:20250112T203000
DTSTAMP:20260420T203201
CREATED:20241209T143943Z
LAST-MODIFIED:20241209T144800Z
UID:10000044-1736706600-1736713800@fcsbasket.com
SUMMARY:FCS/BC CAMPO vs CP NATAÇÃO SUB14 M
DESCRIPTION:18:30 12 JAN 2025
URL:https://fcsbasket.com/evento/fcs-bc-campo-vs-cp-natacao-sub14-m/
LOCATION:PAVILHÃO MUNICIPAL DE CAMPO\, Tv. de São Domingos 200\, Campo - Valongo\, Porto\, 4440-191\, Portugal
CATEGORIES:Jogo
ATTACH;FMTTYPE=image/png:https://fcsbasket.com/wp-content/uploads/2024/12/14m.fcs_.cpn_.png
ORGANIZER;CN="Basket Club de Campo":MAILTO:coordenacao@fcsbasket.com
END:VEVENT
BEGIN:VEVENT
DTSTART;TZID=UTC:20250112T143000
DTEND;TZID=UTC:20250112T163000
DTSTAMP:20260420T203201
CREATED:20241209T143729Z
LAST-MODIFIED:20241209T144946Z
UID:10000043-1736692200-1736699400@fcsbasket.com
SUMMARY:UAA AROSO vs FCS/BC CAMPO SUB16 F
DESCRIPTION:14:30 12 JAN 2025
URL:https://fcsbasket.com/evento/uaa-aroso-vs-fcs-bc-campo-sub16-f/
LOCATION:ESCOLA EB23 MANOEL DE OLIVEIRA\, R. Robert Auzelle 134\, Porto\, Porto\, 4100-431\, Portugal
CATEGORIES:Jogo
ATTACH;FMTTYPE=image/png:https://fcsbasket.com/wp-content/uploads/2024/12/16f.uaa_.fcs_.png
END:VEVENT
BEGIN:VEVENT
DTSTART;TZID=UTC:20250112T093000
DTEND;TZID=UTC:20250112T113000
DTSTAMP:20260420T203201
CREATED:20241209T143616Z
LAST-MODIFIED:20250106T075715Z
UID:10000042-1736674200-1736681400@fcsbasket.com
SUMMARY:CLUB 5BASKET vs FCS/BC CAMPO SENIORES F
DESCRIPTION:09:30 12 JAN 2025
URL:https://fcsbasket.com/evento/club-5basket-vs-fcs-bc-campo-seniores-f/
LOCATION:GINÁSIO ESCOLA BÁSICA E SECUNDÁRIA DO CERCO\, R. do Cerco do Porto 148\, Porto\, Porto\, 4300-113\, Portugal
CATEGORIES:Jogo
ATTACH;FMTTYPE=image/png:https://fcsbasket.com/wp-content/uploads/2024/12/5basket.fcs_.png
END:VEVENT
BEGIN:VEVENT
DTSTART;TZID=UTC:20250111T183000
DTEND;TZID=UTC:20250111T203000
DTSTAMP:20260420T203201
CREATED:20241209T143437Z
LAST-MODIFIED:20241209T144315Z
UID:10000041-1736620200-1736627400@fcsbasket.com
SUMMARY:FCS/BC CAMPO vs CAA SALESIANOS SUB14 F
DESCRIPTION:18:30 11 JAN 2025
URL:https://fcsbasket.com/evento/fcs-bc-campo-vs-caa-salesianos-sub14-f/
LOCATION:PAVILHÃO MUNICIPAL DE CAMPO\, Tv. de São Domingos 200\, Campo - Valongo\, Porto\, 4440-191\, Portugal
CATEGORIES:Jogo
ATTACH;FMTTYPE=image/jpeg:https://fcsbasket.com/wp-content/uploads/2024/11/fcs-caa.jpg
ORGANIZER;CN="Basket Club de Campo":MAILTO:coordenacao@fcsbasket.com
END:VEVENT
BEGIN:VEVENT
DTSTART;TZID=UTC:20250111T143000
DTEND;TZID=UTC:20250111T163000
DTSTAMP:20260420T203201
CREATED:20241203T101334Z
LAST-MODIFIED:20250110T134317Z
UID:10000036-1736605800-1736613000@fcsbasket.com
SUMMARY:GD BOLACESTO B vs FCS/BC CAMPO SUB16 M
DESCRIPTION:14:30 11 JAN 2025
URL:https://fcsbasket.com/evento/gd-bolacesto-b-vs-fcs-bc-campo-seniores-f/
LOCATION:PAVILHÃO MUNICIPAL DAS PEDRAS – NELSON CARDOSO\, R. Q.ta Pedras\, Mafamude\, Vila nova de Gaia\, 4430-069\, Portugal
CATEGORIES:Jogo
ATTACH;FMTTYPE=image/png:https://fcsbasket.com/wp-content/uploads/2024/12/bolacesto-fcs-sub16m-png.avif
END:VEVENT
BEGIN:VEVENT
DTSTART;TZID=UTC:20250105T210000
DTEND;TZID=UTC:20250105T230000
DTSTAMP:20260420T203201
CREATED:20241203T101237Z
LAST-MODIFIED:20241203T160401Z
UID:10000035-1736110800-1736118000@fcsbasket.com
SUMMARY:FCS/BC CAMPO vs AAUTAD SÉNIORES F
DESCRIPTION:21:00 5 JAN 2025
URL:https://fcsbasket.com/evento/fcs-bc-campo-vs-aautad-seniores-f/
LOCATION:PAVILHÃO MUNICIPAL DE CAMPO\, Tv. de São Domingos 200\, Campo - Valongo\, Porto\, 4440-191\, Portugal
CATEGORIES:Jogo
ATTACH;FMTTYPE=image/jpeg:https://fcsbasket.com/wp-content/uploads/2024/11/fcs-aautad.jpg
ORGANIZER;CN="Basket Club de Campo":MAILTO:coordenacao@fcsbasket.com
END:VEVENT
END:VCALENDAR