BEGIN:VCALENDAR
VERSION:2.0
PRODID:-//FCS - Basket Club de Campo - ECPv6.15.20//NONSGML v1.0//EN
CALSCALE:GREGORIAN
METHOD:PUBLISH
X-WR-CALNAME:FCS - Basket Club de Campo
X-ORIGINAL-URL:https://fcsbasket.com
X-WR-CALDESC:Eventos para FCS - Basket Club de Campo
REFRESH-INTERVAL;VALUE=DURATION:PT1H
X-Robots-Tag:noindex
X-PUBLISHED-TTL:PT1H
BEGIN:VTIMEZONE
TZID:UTC
BEGIN:STANDARD
TZOFFSETFROM:+0000
TZOFFSETTO:+0000
TZNAME:UTC
DTSTART:20230101T000000
END:STANDARD
END:VTIMEZONE
BEGIN:VEVENT
DTSTART;TZID=UTC:20241215T183000
DTEND;TZID=UTC:20241215T203000
DTSTAMP:20260420T230226
CREATED:20241209T114040Z
LAST-MODIFIED:20241209T135045Z
UID:10000039-1734287400-1734294600@fcsbasket.com
SUMMARY:FCS/BC CAMPO vs  C5 BASKET B SUB14 M
DESCRIPTION:18:30 15 DEZ 2024
URL:https://fcsbasket.com/evento/fcs-bc-campo-vs-c5-basket-b-sub14-m/
LOCATION:PAVILHÃO MUNICIPAL DE CAMPO\, Tv. de São Domingos 200\, Campo - Valongo\, Porto\, 4440-191\, Portugal
CATEGORIES:Jogo
ATTACH;FMTTYPE=image/png:https://fcsbasket.com/wp-content/uploads/2024/12/FCS.C5BASKET.png
ORGANIZER;CN="Basket Club de Campo":MAILTO:coordenacao@fcsbasket.com
END:VEVENT
BEGIN:VEVENT
DTSTART;TZID=UTC:20241215T110000
DTEND;TZID=UTC:20241215T130000
DTSTAMP:20260420T230226
CREATED:20241203T100738Z
LAST-MODIFIED:20241203T160215Z
UID:10000030-1734260400-1734267600@fcsbasket.com
SUMMARY:CLUB 5BASKET B vs FCS/BC CAMPO SUB16 M
DESCRIPTION:11:15 15 DEZ 2024
URL:https://fcsbasket.com/evento/club-5basket-b-vs-fcs-bc-campo-sub16-m/
LOCATION:PAVILHÃO MUNICIPAL SÃO PEDRO DA COVA\, Tv. das Azáleas 246\, São Pedro da Cova\, 4510-246\, Portugal
CATEGORIES:Jogo
ATTACH;FMTTYPE=image/jpeg:https://fcsbasket.com/wp-content/uploads/2024/11/5basket-fcs.jpg
END:VEVENT
BEGIN:VEVENT
DTSTART;TZID=UTC:20241215T093000
DTEND;TZID=UTC:20241215T113000
DTSTAMP:20260420T230226
CREATED:20241203T100645Z
LAST-MODIFIED:20241203T160205Z
UID:10000029-1734255000-1734262200@fcsbasket.com
SUMMARY:CD PÓVOA A vs  FCS/BC CAMPO SUB16 F
DESCRIPTION:09:30 15 DEZ 2024
URL:https://fcsbasket.com/evento/cd-povoa-a-vs-fcs-bc-campo-sub16-f/
LOCATION:PAVILHÃO DO CLUBE DESPORTIVO PÓVOA\, Av. Vasco da Gama 150\, Póvoa de Varzim\, 4490-410\, Portugal
CATEGORIES:Jogo
ATTACH;FMTTYPE=image/jpeg:https://fcsbasket.com/wp-content/uploads/2024/11/povoa-fcs.jpg
END:VEVENT
BEGIN:VEVENT
DTSTART;TZID=UTC:20241214T183000
DTEND;TZID=UTC:20241214T203000
DTSTAMP:20260420T230226
CREATED:20241209T113523Z
LAST-MODIFIED:20241209T113856Z
UID:10000038-1734201000-1734208200@fcsbasket.com
SUMMARY:FCS/BC CAMPO vs  CLIP TEAMS A SUB14 F
DESCRIPTION:18:30 14 DEZ 2024
URL:https://fcsbasket.com/evento/fcs-bc-campo-vs-clip-teams-a/
LOCATION:PAVILHÃO MUNICIPAL DE CAMPO\, Tv. de São Domingos 200\, Campo - Valongo\, Porto\, 4440-191\, Portugal
CATEGORIES:Jogo
ORGANIZER;CN="Basket Club de Campo":MAILTO:coordenacao@fcsbasket.com
END:VEVENT
BEGIN:VEVENT
DTSTART;TZID=UTC:20241214T143000
DTEND;TZID=UTC:20241214T163000
DTSTAMP:20260420T230226
CREATED:20241203T100436Z
LAST-MODIFIED:20241203T160155Z
UID:10000028-1734186600-1734193800@fcsbasket.com
SUMMARY:CBP 2012 C vs FCS/BC CAMPO SUB16 M
DESCRIPTION:14:30 14 DEZ 2024
URL:https://fcsbasket.com/evento/cbp-2012-c-vs-fcs-bc-campo-sub16-m/
LOCATION:PAVILHÃO MUNICIPAL DE PENAFIEL\, R. do Futebol Clube de Penafiel\, Penafiel\, 4560-999\, Portugal
CATEGORIES:Jogo
ATTACH;FMTTYPE=image/jpeg:https://fcsbasket.com/wp-content/uploads/2024/11/CS.jpg
END:VEVENT
BEGIN:VEVENT
DTSTART;TZID=UTC:20241208T143000
DTEND;TZID=UTC:20241208T163000
DTSTAMP:20260420T230226
CREATED:20241203T100309Z
LAST-MODIFIED:20241205T090411Z
UID:10000037-1733668200-1733675400@fcsbasket.com
SUMMARY:FCS/BC CAMPO vs SC COIMBRÕES A SUB16 F
DESCRIPTION:14:30 8 DEZ 2024
URL:https://fcsbasket.com/evento/fcs-bc-campo-vs-sc-coimbroes-a-sub16-f/
LOCATION:PAVILHÃO MUNICIPAL DE SOBRADO\, Tv. de Campelo\, Sobrado\, 4440-452\, Portugal
CATEGORIES:Jogo
ATTACH;FMTTYPE=image/jpeg:https://fcsbasket.com/wp-content/uploads/2024/11/FCS-COIMBROES.jpg
ORGANIZER;CN="Basket Club de Campo":MAILTO:coordenacao@fcsbasket.com
END:VEVENT
BEGIN:VEVENT
DTSTART;TZID=UTC:20241207T210000
DTEND;TZID=UTC:20241207T230000
DTSTAMP:20260420T230226
CREATED:20241203T100212Z
LAST-MODIFIED:20241203T160138Z
UID:10000027-1733605200-1733612400@fcsbasket.com
SUMMARY:CTM VILA POUCA DE AGUIAR vs FCS/BC CAMPO SÉNIORES F
DESCRIPTION:21:00 7 DEZ 2024
URL:https://fcsbasket.com/evento/ctm-vila-pouca-de-aguiar-vs-fcs-bc-campo-seniores-f/
LOCATION:PAVILHÃO DESPORTIVO DR. GOMES DA COSTA\, Av. Dr. Carlos Alberto de Sousa 11\, Vila Pouca de Aguiar\, 5450-003\, Portugal
CATEGORIES:Jogo
ATTACH;FMTTYPE=image/jpeg:https://fcsbasket.com/wp-content/uploads/2024/11/VILA-POUCA-FCS.jpg
END:VEVENT
BEGIN:VEVENT
DTSTART;TZID=UTC:20241207T143000
DTEND;TZID=UTC:20241207T163000
DTSTAMP:20260420T230227
CREATED:20241203T100112Z
LAST-MODIFIED:20241203T160127Z
UID:10000026-1733581800-1733589000@fcsbasket.com
SUMMARY:FCS/BC CAMPO vs PAREDES/FENABEL SUB16 M
DESCRIPTION:14:30 7 DEZ 2024
URL:https://fcsbasket.com/evento/fcs-bc-campo-vs-paredes-fenabel-sub16-m/
LOCATION:PAVILHÃO MUNICIPAL DE CAMPO\, Tv. de São Domingos 200\, Campo - Valongo\, Porto\, 4440-191\, Portugal
CATEGORIES:Jogo
ATTACH;FMTTYPE=image/jpeg:https://fcsbasket.com/wp-content/uploads/2024/11/FCS-PAREDES.jpg
ORGANIZER;CN="Basket Club de Campo":MAILTO:coordenacao@fcsbasket.com
END:VEVENT
BEGIN:VEVENT
DTSTART;TZID=UTC:20241201T210000
DTEND;TZID=UTC:20241201T230000
DTSTAMP:20260420T230227
CREATED:20241201T210041Z
LAST-MODIFIED:20241203T154025Z
UID:10000025-1733086800-1733094000@fcsbasket.com
SUMMARY:FCS/BC CAMPO vs JUVEMAIA ACDC SÉNIOR F
DESCRIPTION:21:00 1 DEZ 2024
URL:https://fcsbasket.com/evento/fcs-bss-vs-juvemaia-acdc-senior-f/
LOCATION:PAVILHÃO MUNICIPAL DE CAMPO\, Tv. de São Domingos 200\, Campo - Valongo\, Porto\, 4440-191\, Portugal
CATEGORIES:Jogo
ATTACH;FMTTYPE=image/jpeg:https://fcsbasket.com/wp-content/uploads/2024/11/FCS-JUVEMAIA.jpg
ORGANIZER;CN="Basket Club de Campo":MAILTO:coordenacao@fcsbasket.com
END:VEVENT
BEGIN:VEVENT
DTSTART;TZID=UTC:20241201T143000
DTEND;TZID=UTC:20241201T163000
DTSTAMP:20260420T230227
CREATED:20241201T143007Z
LAST-MODIFIED:20241203T154013Z
UID:10000024-1733063400-1733070600@fcsbasket.com
SUMMARY:GD BOLACESTO vs FCS/BC CAMPO SUB16 F
DESCRIPTION:14:30 1 DEZ 2024
URL:https://fcsbasket.com/evento/gd-bolacesto-vs-fcs-bcc-sub16-f/
LOCATION:PAVILHÃO MUNICIPAL FERNANDO GOMES\, Rua do Choupelo 677\, Vila Nova de Gaia\, Porto\, 4430-999\, Portugal
CATEGORIES:Jogo
ATTACH;FMTTYPE=image/jpeg:https://fcsbasket.com/wp-content/uploads/2024/12/25148-Converted.jpg
END:VEVENT
BEGIN:VEVENT
DTSTART;TZID=UTC:20241201T113000
DTEND;TZID=UTC:20241201T133000
DTSTAMP:20260420T230227
CREATED:20241201T113023Z
LAST-MODIFIED:20241203T153954Z
UID:10000023-1733052600-1733059800@fcsbasket.com
SUMMARY:FCS/BC CAMPO vs UAA AROSO B SUB14 M
DESCRIPTION:11:30 1 DEZ 2024
URL:https://fcsbasket.com/evento/fcs-bcc-vs-uaa-aroso-b-sub14-m/
LOCATION:PAVILHÃO MUNICIPAL DE CAMPO\, Tv. de São Domingos 200\, Campo - Valongo\, Porto\, 4440-191\, Portugal
CATEGORIES:Jogo
ORGANIZER;CN="Basket Club de Campo":MAILTO:coordenacao@fcsbasket.com
END:VEVENT
BEGIN:VEVENT
DTSTART;TZID=UTC:20241201T093000
DTEND;TZID=UTC:20241201T113000
DTSTAMP:20260420T230227
CREATED:20241201T093055Z
LAST-MODIFIED:20241203T153939Z
UID:10000022-1733045400-1733052600@fcsbasket.com
SUMMARY:FCS/BC CAMPO vs CAA SALESIANOS SUB14 F
DESCRIPTION:09:30 1 DEZ 2024
URL:https://fcsbasket.com/evento/bcc-vs-caa-salesianos/
LOCATION:PAVILHÃO MUNICIPAL DE CAMPO\, Tv. de São Domingos 200\, Campo - Valongo\, Porto\, 4440-191\, Portugal
CATEGORIES:Jogo
ATTACH;FMTTYPE=image/jpeg:https://fcsbasket.com/wp-content/uploads/2024/11/fcs-caa.jpg
ORGANIZER;CN="Basket Club de Campo":MAILTO:coordenacao@fcsbasket.com
END:VEVENT
BEGIN:VEVENT
DTSTART;TZID=UTC:20241023T213000
DTEND;TZID=UTC:20241023T230000
DTSTAMP:20260420T230227
CREATED:20241022T105619Z
LAST-MODIFIED:20241022T105619Z
UID:10000020-1729719000-1729724400@fcsbasket.com
SUMMARY:TREINO VETERANOS
DESCRIPTION:
URL:https://fcsbasket.com/evento/treino-veteranos/
LOCATION:ESCOLA SECUNDÁRIA VALONGO\, R. das Pedreiras 140\, Valongo\, Porto\, Portugal
CATEGORIES:Treino
ORGANIZER;CN="Basket Club de Campo":MAILTO:coordenacao@fcsbasket.com
END:VEVENT
BEGIN:VEVENT
DTSTART;TZID=UTC:20241023T200000
DTEND;TZID=UTC:20241023T213000
DTSTAMP:20260420T230227
CREATED:20241022T105428Z
LAST-MODIFIED:20241022T105536Z
UID:10000019-1729713600-1729719000@fcsbasket.com
SUMMARY:TREINO SUB 16 F
DESCRIPTION:
URL:https://fcsbasket.com/evento/sub-16-f/
LOCATION:ESCOLA SECUNDÁRIA VALONGO\, R. das Pedreiras 140\, Valongo\, Porto\, Portugal
CATEGORIES:Treino
ORGANIZER;CN="Basket Club de Campo":MAILTO:coordenacao@fcsbasket.com
END:VEVENT
BEGIN:VEVENT
DTSTART;TZID=UTC:20241023T183000
DTEND;TZID=UTC:20241023T200000
DTSTAMP:20260420T230227
CREATED:20241022T105716Z
LAST-MODIFIED:20241022T105716Z
UID:10000021-1729708200-1729713600@fcsbasket.com
SUMMARY:TREINO MINI 8 / MINI 10
DESCRIPTION:
URL:https://fcsbasket.com/evento/treino-mini-8-mini-10/
LOCATION:PAVILHÃO CAMPO Nº2\, Tv. de São Domingos 200\, Campo - Valongo\, Porto\, 4440-191\, Portugal
CATEGORIES:Treino
ORGANIZER;CN="Basket Club de Campo":MAILTO:coordenacao@fcsbasket.com
END:VEVENT
BEGIN:VEVENT
DTSTART;TZID=UTC:20241021T213000
DTEND;TZID=UTC:20241021T230000
DTSTAMP:20260420T230227
CREATED:20241022T093728Z
LAST-MODIFIED:20241022T093728Z
UID:10000018-1729546200-1729551600@fcsbasket.com
SUMMARY:SEN F
DESCRIPTION:
URL:https://fcsbasket.com/evento/sen-f/
LOCATION:PAVILHÃO MUNICIPAL DE CAMPO\, Tv. de São Domingos 200\, Campo - Valongo\, Porto\, 4440-191\, Portugal
CATEGORIES:Treino
ORGANIZER;CN="Basket Club de Campo":MAILTO:coordenacao@fcsbasket.com
END:VEVENT
END:VCALENDAR