BEGIN:VCALENDAR
VERSION:2.0
PRODID:-//FCS - Basket Club de Campo - ECPv6.15.20//NONSGML v1.0//EN
CALSCALE:GREGORIAN
METHOD:PUBLISH
X-ORIGINAL-URL:https://fcsbasket.com
X-WR-CALDESC:Eventos para FCS - Basket Club de Campo
REFRESH-INTERVAL;VALUE=DURATION:PT1H
X-Robots-Tag:noindex
X-PUBLISHED-TTL:PT1H
BEGIN:VTIMEZONE
TZID:UTC
BEGIN:STANDARD
TZOFFSETFROM:+0000
TZOFFSETTO:+0000
TZNAME:UTC
DTSTART:20240101T000000
END:STANDARD
END:VTIMEZONE
BEGIN:VEVENT
DTSTART;TZID=UTC:20251024T214500
DTEND;TZID=UTC:20251024T233000
DTSTAMP:20260420T024847
CREATED:20251020T084531Z
LAST-MODIFIED:20251020T101157Z
UID:10000143-1761342300-1761348600@fcsbasket.com
SUMMARY:BASKET CLUB DE CAMPO VS UAA AROSO SUB 18F
DESCRIPTION:21:45 24 OUT 2025
URL:https://fcsbasket.com/evento/basket-club-de-campo-vs-uaa-aroso-sub-18f/
LOCATION:PAVILHÃO MUNICIPAL DE CAMPO\, Tv. de São Domingos 200\, Campo - Valongo\, Porto\, 4440-191\, Portugal
CATEGORIES:Jogo
ATTACH;FMTTYPE=image/jpeg:https://fcsbasket.com/wp-content/uploads/2025/10/FCS-AROSO-SUB18F.jpg
ORGANIZER;CN="Basket Club de Campo":MAILTO:coordenacao@fcsbasket.com
END:VEVENT
BEGIN:VEVENT
DTSTART;TZID=UTC:20251019T093000
DTEND;TZID=UTC:20251019T113000
DTSTAMP:20260420T024847
CREATED:20251008T082441Z
LAST-MODIFIED:20251014T080836Z
UID:10000142-1760866200-1760873400@fcsbasket.com
SUMMARY:J. PACENSE VS BASKET CLUB DE CAMPO SUB 14M
DESCRIPTION:09:30 19 OUT 2025
URL:https://fcsbasket.com/evento/j-pacense-vs-basket-club-de-campo-sub-14m/
LOCATION:PAVILHÃO MUNICIPAL Nº2\, PAÇOS DE FERREIRA\, Rua do Pavilhão Modelos\, MODELOS\, 4590-475\, Portugal
CATEGORIES:Jogo
ATTACH;FMTTYPE=image/jpeg:https://fcsbasket.com/wp-content/uploads/2025/10/PACENSE-BCC-SUB14M.jpg
END:VEVENT
BEGIN:VEVENT
DTSTART;TZID=UTC:20251017T213000
DTEND;TZID=UTC:20251017T233000
DTSTAMP:20260420T024847
CREATED:20250926T152830Z
LAST-MODIFIED:20251014T080740Z
UID:10000141-1760736600-1760743800@fcsbasket.com
SUMMARY:CD PÓVOA VS BASKET CLUB DE CAMPO SUB 18F
DESCRIPTION:21:30 17 OUT 2025
URL:https://fcsbasket.com/evento/cd-povoa-vs-basket-club-de-campo-sub-18f/
LOCATION:ESCOLA SEC. ROCHA PEIXOTA\, R. Maj. Mota\, Póvoa de Varzim\, 4490-623\, Portugal
CATEGORIES:Jogo
ATTACH;FMTTYPE=image/jpeg:https://fcsbasket.com/wp-content/uploads/2025/09/POVOA-FCS-SUB18F.jpg
END:VEVENT
BEGIN:VEVENT
DTSTART;TZID=UTC:20251012T110000
DTEND;TZID=UTC:20251012T130000
DTSTAMP:20260420T024847
CREATED:20250926T152556Z
LAST-MODIFIED:20251008T082213Z
UID:10000140-1760266800-1760274000@fcsbasket.com
SUMMARY:J. PACENSE VS BASKET CLUB DE CAMPO SUB 14F
DESCRIPTION:11:00 12 OUT 2025
URL:https://fcsbasket.com/evento/j-pacense-vs-basket-club-de-campo-sub-14f/
LOCATION:ESCOLA SEC. DE FREAMUNDE\, Praceta da Escola Secundária\, 21\, FREAMUNDO\, 4590-314\, Portugal
CATEGORIES:Jogo
ATTACH;FMTTYPE=image/jpeg:https://fcsbasket.com/wp-content/uploads/2025/09/PACENSE-BCC-SUB14F.jpg
END:VEVENT
BEGIN:VEVENT
DTSTART;TZID=UTC:20251012T090000
DTEND;TZID=UTC:20251012T110000
DTSTAMP:20260420T024847
CREATED:20250926T152255Z
LAST-MODIFIED:20251008T082145Z
UID:10000139-1760259600-1760266800@fcsbasket.com
SUMMARY:BASKET CLUB DE CAMPO VS FC PORTO A SUB 14M
DESCRIPTION:09:00 12 OUT 2025
URL:https://fcsbasket.com/evento/basket-club-de-campo-vs-fc-porto-a-sub-14m/
LOCATION:PAVILHÃO MUNICIPAL DE CAMPO\, Tv. de São Domingos 200\, Campo - Valongo\, Porto\, 4440-191\, Portugal
CATEGORIES:Jogo
ATTACH;FMTTYPE=image/jpeg:https://fcsbasket.com/wp-content/uploads/2025/09/BCC-PORTO-SUB14M.jpg
ORGANIZER;CN="Basket Club de Campo":MAILTO:coordenacao@fcsbasket.com
END:VEVENT
BEGIN:VEVENT
DTSTART;TZID=UTC:20251011T173000
DTEND;TZID=UTC:20251011T193000
DTSTAMP:20260420T024847
CREATED:20250926T152131Z
LAST-MODIFIED:20251008T082115Z
UID:10000138-1760203800-1760211000@fcsbasket.com
SUMMARY:CD PÓVOA B VS BASKET CLUB DE CAMPO SUB 16M
DESCRIPTION:17:30 11 OUT 2025
URL:https://fcsbasket.com/evento/cd-povoa-b-vs-basket-club-de-campo-sub-16m/
LOCATION:PAVILHÃO ESCOLA SEC. EÇA DE QUEIRÓS\, Rua Doutor Leonardo Coimbra\, Póvoa de Varzim\, Porto\, 4490-621\, Portugal
CATEGORIES:Jogo
ATTACH;FMTTYPE=image/jpeg:https://fcsbasket.com/wp-content/uploads/2025/09/cdpovoa-fcs-sub16M.jpg
END:VEVENT
BEGIN:VEVENT
DTSTART;TZID=UTC:20251005T143000
DTEND;TZID=UTC:20251005T163000
DTSTAMP:20260420T024847
CREATED:20250926T151901Z
LAST-MODIFIED:20250926T160940Z
UID:10000137-1759674600-1759681800@fcsbasket.com
SUMMARY:BOLACESTO VS BASKET CLUB DE CAMPO SUB 14F
DESCRIPTION:14:30 05 OUT 2025
URL:https://fcsbasket.com/evento/bolacesto-vs-cd-basket-club-de-campo-sub-14f/
LOCATION:PAVILHÃO MUNICIPAL DAS PEDRAS – NELSON CARDOSO\, R. Q.ta Pedras\, Mafamude\, Vila nova de Gaia\, 4430-069\, Portugal
CATEGORIES:Jogo
ATTACH;FMTTYPE=image/jpeg:https://fcsbasket.com/wp-content/uploads/2025/09/BOLACESTO-BCC-SUB14F.jpg
END:VEVENT
BEGIN:VEVENT
DTSTART;TZID=UTC:20251005T110000
DTEND;TZID=UTC:20251005T130000
DTSTAMP:20260420T024847
CREATED:20250926T151744Z
LAST-MODIFIED:20251003T122432Z
UID:10000136-1759662000-1759669200@fcsbasket.com
SUMMARY:FC GAIA A VS BASKET CLUB DE CAMPO SUB 14M
DESCRIPTION:11:00 05 OUT 2025
URL:https://fcsbasket.com/evento/fc-gaia-a-vs-basket-club-de-campo-sub-14m/
LOCATION:PAVILHÃO FUTEBOL CLUBE GAIA\, Rua Fialho de Almeida\, Vila Nova de Gaia\, Porto\, 4400-150\, Portugal
CATEGORIES:Jogo
ATTACH;FMTTYPE=image/jpeg:https://fcsbasket.com/wp-content/uploads/2025/09/GAIA-BCC-SUB14M.jpg
END:VEVENT
BEGIN:VEVENT
DTSTART;TZID=UTC:20251004T183000
DTEND;TZID=UTC:20251004T203000
DTSTAMP:20260420T024847
CREATED:20250926T151619Z
LAST-MODIFIED:20250926T160358Z
UID:10000135-1759602600-1759609800@fcsbasket.com
SUMMARY:JUVEMAIA VS BASKET CLUB DE CAMPO SUB 14M
DESCRIPTION:18:30 04OUT 2025
URL:https://fcsbasket.com/evento/juvemaia-vs-basket-club-de-campo-sub-14m/
LOCATION:PAVILHÃO MUNICIPAL NOGUEIRA DA MAIA\, R. Eusébio da Silva Ferreira\, Milheirós\, 4475-457\, Portugal
CATEGORIES:Jogo
ATTACH;FMTTYPE=image/jpeg:https://fcsbasket.com/wp-content/uploads/2025/09/JUVEMAIA-BCC-SUB14M.jpg
END:VEVENT
BEGIN:VEVENT
DTSTART;TZID=UTC:20251004T143000
DTEND;TZID=UTC:20251004T163000
DTSTAMP:20260420T024847
CREATED:20250926T151503Z
LAST-MODIFIED:20250926T160326Z
UID:10000134-1759588200-1759595400@fcsbasket.com
SUMMARY:BASKET CLUB DE CAMPO VS FC GAIA B SUB 16M
DESCRIPTION:14:30 04 OUT 2025
URL:https://fcsbasket.com/evento/basket-club-de-campo-vs-fc-gaia-b-sub-16m/
LOCATION:PAVILHÃO MUNICIPAL DE CAMPO\, Tv. de São Domingos 200\, Campo - Valongo\, Porto\, 4440-191\, Portugal
CATEGORIES:Jogo
ATTACH;FMTTYPE=image/jpeg:https://fcsbasket.com/wp-content/uploads/2025/09/BCC-GAIA-SUB16M.jpg
ORGANIZER;CN="Basket Club de Campo":MAILTO:coordenacao@fcsbasket.com
END:VEVENT
BEGIN:VEVENT
DTSTART;TZID=UTC:20251003T214500
DTEND;TZID=UTC:20251003T233000
DTSTAMP:20260420T024847
CREATED:20250926T151348Z
LAST-MODIFIED:20250926T160238Z
UID:10000133-1759527900-1759534200@fcsbasket.com
SUMMARY:BASKET CLUB DE CAMPO VS CLIP SUB 18F
DESCRIPTION:21:45 03 OUT 2025
URL:https://fcsbasket.com/evento/basket-club-de-campo-vs-clip-sub-18f/
LOCATION:PAVILHÃO MUNICIPAL DE CAMPO\, Tv. de São Domingos 200\, Campo - Valongo\, Porto\, 4440-191\, Portugal
CATEGORIES:Jogo
ATTACH;FMTTYPE=image/jpeg:https://fcsbasket.com/wp-content/uploads/2025/09/CLIP-SUB18F.jpg
ORGANIZER;CN="Basket Club de Campo":MAILTO:coordenacao@fcsbasket.com
END:VEVENT
BEGIN:VEVENT
DTSTART;TZID=UTC:20250928T090000
DTEND;TZID=UTC:20250928T110000
DTSTAMP:20260420T024847
CREATED:20250924T171244Z
LAST-MODIFIED:20250924T171244Z
UID:10000132-1759050000-1759057200@fcsbasket.com
SUMMARY:BASKET CLUB DE CAMPO VS CD PÓVOA SUB 14F
DESCRIPTION:09:00 28 SET 2025
URL:https://fcsbasket.com/evento/basket-club-de-campo-vs-cd-povoa-sub-14f/
LOCATION:PAVILHÃO MUNICIPAL DE CAMPO\, Tv. de São Domingos 200\, Campo - Valongo\, Porto\, 4440-191\, Portugal
CATEGORIES:Jogo
ATTACH;FMTTYPE=image/jpeg:https://fcsbasket.com/wp-content/uploads/2025/09/fcs-cdpovoa-sub14f.avif
ORGANIZER;CN="Basket Club de Campo":MAILTO:coordenacao@fcsbasket.com
END:VEVENT
BEGIN:VEVENT
DTSTART;TZID=UTC:20250927T203000
DTEND;TZID=UTC:20250927T223000
DTSTAMP:20260420T024847
CREATED:20250924T171106Z
LAST-MODIFIED:20250924T171106Z
UID:10000131-1759005000-1759012200@fcsbasket.com
SUMMARY:C5 BASKET VS BASKET CLUB DE CAMPO SUB 18F
DESCRIPTION:20:30 27 SET 2025
URL:https://fcsbasket.com/evento/c5-basket-vs-basket-club-de-campo-sub-18f/
LOCATION:PAVILHÃO MUNICIPAL SÃO PEDRO DA COVA\, Tv. das Azáleas 246\, São Pedro da Cova\, 4510-246\, Portugal
CATEGORIES:Jogo
ATTACH;FMTTYPE=image/jpeg:https://fcsbasket.com/wp-content/uploads/2025/09/c5basket-fcs-sub18f.avif
END:VEVENT
BEGIN:VEVENT
DTSTART;TZID=UTC:20250927T163000
DTEND;TZID=UTC:20250927T183000
DTSTAMP:20260420T024847
CREATED:20250924T170852Z
LAST-MODIFIED:20250924T170852Z
UID:10000130-1758990600-1758997800@fcsbasket.com
SUMMARY:UAA AROSO VS BASKET CLUB DE CAMPO SUB 16M
DESCRIPTION:16:30 27 SET 2025
URL:https://fcsbasket.com/evento/uaa-aroso-vs-basket-club-de-campo-sub-16m/
LOCATION:ESCOLA EB23 IRENE LISBOA\, R. de Cervantes 532\, Porto\, Porto\, 4050 - 186\, Portugal
CATEGORIES:Jogo
ATTACH;FMTTYPE=image/jpeg:https://fcsbasket.com/wp-content/uploads/2025/09/uaaa-fcs-sub16m.avif
END:VEVENT
BEGIN:VEVENT
DTSTART;TZID=UTC:20250927T090000
DTEND;TZID=UTC:20250927T110000
DTSTAMP:20260420T024847
CREATED:20250924T170208Z
LAST-MODIFIED:20250924T170403Z
UID:10000129-1758963600-1758970800@fcsbasket.com
SUMMARY:BASKET CLUB DE CAMPO VS CDB LEÇA SUB 14M
DESCRIPTION:09:00 27 SET 2025
URL:https://fcsbasket.com/evento/basket-club-de-campo-vs-cdb-leca-sub-14m/
LOCATION:PAVILHÃO MUNICIPAL DE CAMPO\, Tv. de São Domingos 200\, Campo - Valongo\, Porto\, 4440-191\, Portugal
CATEGORIES:Jogo
ATTACH;FMTTYPE=image/jpeg:https://fcsbasket.com/wp-content/uploads/2025/09/fcs-gbdl-sub14m.avif
ORGANIZER;CN="Basket Club de Campo":MAILTO:coordenacao@fcsbasket.com
END:VEVENT
BEGIN:VEVENT
DTSTART;TZID=UTC:20250610T113000
DTEND;TZID=UTC:20250610T133000
DTSTAMP:20260420T024847
CREATED:20250606T101116Z
LAST-MODIFIED:20250606T103921Z
UID:10000128-1749555000-1749562200@fcsbasket.com
SUMMARY:CBP 2012 C vs FCS/BC CAMPO  SUB 16M
DESCRIPTION:11:30 10 JUN 2025
URL:https://fcsbasket.com/evento/cbp-2012-c-vs-fcs-bc-campo-sub-16m/
LOCATION:PAVILHÃO CENTRO ESCOLAR PENAFIEL\, Rua Abílio Miranda\, Penafiel\, PORTO\, 4560-501\, Portugal
CATEGORIES:Jogo
ATTACH;FMTTYPE=image/png:https://fcsbasket.com/wp-content/uploads/2025/06/cbp-2012-fcs-sub16m.avif
END:VEVENT
BEGIN:VEVENT
DTSTART;TZID=UTC:20250610T090000
DTEND;TZID=UTC:20250610T110000
DTSTAMP:20260420T024847
CREATED:20250606T100818Z
LAST-MODIFIED:20250606T102457Z
UID:10000127-1749546000-1749553200@fcsbasket.com
SUMMARY:AC ALFENENSE vs FCS/BC CAMPO  SUB 14M
DESCRIPTION:09:00 10 JUN 2025
URL:https://fcsbasket.com/evento/ac-alfenense-vs-fcs-bc-campo-sub-14m/
LOCATION:PAVILHÃO GIMNODESPORTIVO ALFENENSE\, Rua das Passarias\, 616\, Alfena\, PORTO\, 4445-171\, Portugal
CATEGORIES:Jogo
ATTACH;FMTTYPE=image/png:https://fcsbasket.com/wp-content/uploads/2025/06/ac-alfenense-fcs-sub14m.avif
END:VEVENT
BEGIN:VEVENT
DTSTART;TZID=UTC:20250609T210000
DTEND;TZID=UTC:20250609T230000
DTSTAMP:20260420T024847
CREATED:20250606T100555Z
LAST-MODIFIED:20250606T102246Z
UID:10000126-1749502800-1749510000@fcsbasket.com
SUMMARY:POWERTOGETHER A vs FCS/BC CAMPO  SUB 14F
DESCRIPTION:21:00 09 JUN 2025
URL:https://fcsbasket.com/evento/powertogether-a-vs-fcs-bc-campo-sub-14f/
LOCATION:PAVILHÃO MUN. PROF. MIRANDA DE CARVALHO\, Praceta José Pinto Correia - Urbanização Vila DEste\, Vilar de Andorinho\, 4430-441\, Portugal
CATEGORIES:Jogo
ATTACH;FMTTYPE=image/png:https://fcsbasket.com/wp-content/uploads/2025/06/powertogether-fcs-sub14f.jpg.avif
END:VEVENT
BEGIN:VEVENT
DTSTART;TZID=UTC:20250608T143000
DTEND;TZID=UTC:20250608T163000
DTSTAMP:20260420T024847
CREATED:20250606T093710Z
LAST-MODIFIED:20250606T100252Z
UID:10000123-1749393000-1749400200@fcsbasket.com
SUMMARY:FCS/BC CAMPO vs MONÇÃO BC  SUB 14M
DESCRIPTION:14:30 08 JUN 2025
URL:https://fcsbasket.com/evento/fcs-bc-campo-vs-moncao-bc-sub-14m/
LOCATION:PAVILHÃO MUNICIPAL DE SOBRADO\, Tv. de Campelo\, Sobrado\, 4440-452\, Portugal
CATEGORIES:Jogo
ATTACH;FMTTYPE=image/jpeg:https://fcsbasket.com/wp-content/uploads/2025/06/FCS-MONCAO-SUB14M.avif
ORGANIZER;CN="Basket Club de Campo":MAILTO:coordenacao@fcsbasket.com
END:VEVENT
BEGIN:VEVENT
DTSTART;TZID=UTC:20250608T110000
DTEND;TZID=UTC:20250608T130000
DTSTAMP:20260420T024847
CREATED:20250606T093836Z
LAST-MODIFIED:20250606T100207Z
UID:10000124-1749380400-1749387600@fcsbasket.com
SUMMARY:FCS/BC CAMPO vs FC GAIA C  SUB 16M
DESCRIPTION:11:00 08 JUN 2025
URL:https://fcsbasket.com/evento/fcs-bc-campo-vs-fc-gaia-c-sub-16m/
LOCATION:PAVILHÃO MUNICIPAL DE SOBRADO\, Tv. de Campelo\, Sobrado\, 4440-452\, Portugal
CATEGORIES:Jogo
ATTACH;FMTTYPE=image/png:https://fcsbasket.com/wp-content/uploads/2025/06/FCS-FCGAIA-SUB16M.avif
ORGANIZER;CN="Basket Club de Campo":MAILTO:coordenacao@fcsbasket.com
END:VEVENT
BEGIN:VEVENT
DTSTART;TZID=UTC:20250608T090000
DTEND;TZID=UTC:20250608T110000
DTSTAMP:20260420T024847
CREATED:20250606T093947Z
LAST-MODIFIED:20250606T100047Z
UID:10000125-1749373200-1749380400@fcsbasket.com
SUMMARY:FCS/BC CAMPO vs CAA SALESIANOS  SUB 14F
DESCRIPTION:09:00 08 JUN 2025
URL:https://fcsbasket.com/evento/fcs-bc-campo-vs-caa-salesianos-sub-14f/
LOCATION:PAVILHÃO MUNICIPAL DE SOBRADO\, Tv. de Campelo\, Sobrado\, 4440-452\, Portugal
CATEGORIES:Jogo
ATTACH;FMTTYPE=image/png:https://fcsbasket.com/wp-content/uploads/2025/06/FCS-SALESIANOS-SUB14F.avif
ORGANIZER;CN="Basket Club de Campo":MAILTO:coordenacao@fcsbasket.com
END:VEVENT
BEGIN:VEVENT
DTSTART;TZID=UTC:20250601T093000
DTEND;TZID=UTC:20250601T113000
DTSTAMP:20260420T024847
CREATED:20250529T112016Z
LAST-MODIFIED:20250529T112016Z
UID:10000122-1748770200-1748777400@fcsbasket.com
SUMMARY:CLUB 5BASKET vs FCS/BC CAMPO  SUB 14F
DESCRIPTION:09:30 01 JUN 2025
URL:https://fcsbasket.com/evento/club-5basket-vs-fcs-bc-campo-sub-14f/
LOCATION:PAVILHÃO MUNICIPAL SÃO PEDRO DA COVA\, Tv. das Azáleas 246\, São Pedro da Cova\, 4510-246\, Portugal
CATEGORIES:Jogo
ATTACH;FMTTYPE=image/jpeg:https://fcsbasket.com/wp-content/uploads/2025/05/5basket-fcs-sub14f.avif
END:VEVENT
BEGIN:VEVENT
DTSTART;TZID=UTC:20250601T090000
DTEND;TZID=UTC:20250601T110000
DTSTAMP:20260420T024847
CREATED:20250529T105130Z
LAST-MODIFIED:20250529T112258Z
UID:10000121-1748768400-1748775600@fcsbasket.com
SUMMARY:ACRV vs FCS/BC CAMPO  SUB 16M
DESCRIPTION:09:00 01 JUN 2025
URL:https://fcsbasket.com/evento/acrv-vs-fcs-bc-campo-sub-16m/
LOCATION:ESCOLA EB23 PROF. NAPOLEÃO DE SOUSA MARQUES\, Rua Abílio Costa Couto\, 78\, TROFA\, PORTO\, 4785-275\, Portugal
CATEGORIES:Jogo
ATTACH;FMTTYPE=image/jpeg:https://fcsbasket.com/wp-content/uploads/2025/05/acrv-fcs-sub16m.avif
END:VEVENT
BEGIN:VEVENT
DTSTART;TZID=UTC:20250531T143000
DTEND;TZID=UTC:20250531T163000
DTSTAMP:20260420T024847
CREATED:20250529T103249Z
LAST-MODIFIED:20250529T104702Z
UID:10000120-1748701800-1748709000@fcsbasket.com
SUMMARY:UAA AROSO B vs FCS/BC CAMPO  SUB 14M
DESCRIPTION:14:30 31 MAI 2025
URL:https://fcsbasket.com/evento/uaa-aroso-b-vs-fcs-bc-campo-sub-14m/
LOCATION:ESCOLA EB23 MANOEL DE OLIVEIRA\, R. Robert Auzelle 134\, Porto\, Porto\, 4100-431\, Portugal
CATEGORIES:Jogo
ATTACH;FMTTYPE=image/png:https://fcsbasket.com/wp-content/uploads/2024/12/UAA.FCS_.png
END:VEVENT
BEGIN:VEVENT
DTSTART;TZID=UTC:20250525T170000
DTEND;TZID=UTC:20250525T190000
DTSTAMP:20260420T024848
CREATED:20250522T170031Z
LAST-MODIFIED:20250522T170954Z
UID:10000119-1748192400-1748199600@fcsbasket.com
SUMMARY:MONÇÃO BC vs FCS/BC CAMPO  SUB 14M
DESCRIPTION:17:00 25 MAI 2025
URL:https://fcsbasket.com/evento/moncao-bc-vs-fcs-bc-campo-sub-14m-2/
LOCATION:ESCOLA EB23 MONÇÃO\, Monção\, 4950-441\, Portugal
CATEGORIES:Jogo
ATTACH;FMTTYPE=image/jpeg:https://fcsbasket.com/wp-content/uploads/2025/04/MONCAO-FCS-SUB14M.avif
GEO:42.0756806;-8.4905822
END:VEVENT
BEGIN:VEVENT
DTSTART;TZID=UTC:20250525T143000
DTEND;TZID=UTC:20250525T163000
DTSTAMP:20260420T024848
CREATED:20250522T165904Z
LAST-MODIFIED:20250522T170857Z
UID:10000118-1748183400-1748190600@fcsbasket.com
SUMMARY:FCS/BC CAMPO vs POWERTOGETHER B  SUB 16M
DESCRIPTION:14:30 25 MAI 2025
URL:https://fcsbasket.com/evento/fcs-bc-campo-vs-powertogether-b-sub-16m/
LOCATION:PAVILHÃO MUNICIPAL DE CAMPO\, Tv. de São Domingos 200\, Campo - Valongo\, Porto\, 4440-191\, Portugal
CATEGORIES:Jogo
ATTACH;FMTTYPE=image/jpeg:https://fcsbasket.com/wp-content/uploads/2025/05/FCS-POWERTOGETHER-SUB16M.avif
ORGANIZER;CN="Basket Club de Campo":MAILTO:coordenacao@fcsbasket.com
END:VEVENT
BEGIN:VEVENT
DTSTART;TZID=UTC:20250524T183000
DTEND;TZID=UTC:20250524T203000
DTSTAMP:20260420T024848
CREATED:20250522T165754Z
LAST-MODIFIED:20250522T170626Z
UID:10000117-1748111400-1748118600@fcsbasket.com
SUMMARY:GBD LEÇA vs FCS/BC CAMPO  SUB 14F
DESCRIPTION:18:30 24 MAI 2025
URL:https://fcsbasket.com/evento/gbd-leca-vs-fcs-bc-campo-sub-14f/
LOCATION:ESCOLA EB23 LEÇA DA PLAMEIRA\, R. do Sol Poente 41\, Leça da Palmeira\, Porto\, 4450-793\, Portugal
CATEGORIES:Jogo
ATTACH;FMTTYPE=image/jpeg:https://fcsbasket.com/wp-content/uploads/2025/05/GBDL-FCS-SUB14F.avif
END:VEVENT
BEGIN:VEVENT
DTSTART;TZID=UTC:20250524T143000
DTEND;TZID=UTC:20250524T163000
DTSTAMP:20260420T024848
CREATED:20250522T165312Z
LAST-MODIFIED:20250522T170552Z
UID:10000115-1748097000-1748104200@fcsbasket.com
SUMMARY:BRANDOENSE vs FCS/BC CAMPO  SUB 16F
DESCRIPTION:14:30 24 MAI 2025
URL:https://fcsbasket.com/evento/brandoense-vs-fcs-bc-campo-sub-16f/
LOCATION:PAVILHÃO ANTÓNIO JÚLIO SILVA\, Rua 2 do Cerrado\, 139\, Paços de Brandão\, 4535-334\, Portugal
CATEGORIES:Jogo
ATTACH;FMTTYPE=image/jpeg:https://fcsbasket.com/wp-content/uploads/2025/05/BRANDOENSE-FCS-SUB16F.avif
END:VEVENT
BEGIN:VEVENT
DTSTART;TZID=UTC:20250524T090000
DTEND;TZID=UTC:20250524T110000
DTSTAMP:20260420T024848
CREATED:20250522T165558Z
LAST-MODIFIED:20250522T170516Z
UID:10000116-1748077200-1748084400@fcsbasket.com
SUMMARY:FCS/BC CAMPO vs CLUB 5BASKET B  SUB 14M
DESCRIPTION:09:00 24 MAI 2025
URL:https://fcsbasket.com/evento/fcs-bc-campo-vs-club-5basket-b-sub-14m/
LOCATION:PAVILHÃO MUNICIPAL DE CAMPO\, Tv. de São Domingos 200\, Campo - Valongo\, Porto\, 4440-191\, Portugal
CATEGORIES:Jogo
ATTACH;FMTTYPE=image/jpeg:https://fcsbasket.com/wp-content/uploads/2025/05/FCS-5BASKET-SUB14M.avif
ORGANIZER;CN="Basket Club de Campo":MAILTO:coordenacao@fcsbasket.com
END:VEVENT
BEGIN:VEVENT
DTSTART;TZID=UTC:20250523T210000
DTEND;TZID=UTC:20250523T230000
DTSTAMP:20260420T024848
CREATED:20250522T165028Z
LAST-MODIFIED:20250522T170225Z
UID:10000114-1748034000-1748041200@fcsbasket.com
SUMMARY:FCS/BC CAMPO vs CLIP TEAMS A  SUB 14F
DESCRIPTION:21:00 23 MAI 2025
URL:https://fcsbasket.com/evento/fcs-bc-campo-vs-clip-teams-a-sub-14f/
LOCATION:PAVILHÃO MUNICIPAL DE CAMPO\, Tv. de São Domingos 200\, Campo - Valongo\, Porto\, 4440-191\, Portugal
CATEGORIES:Jogo
ATTACH;FMTTYPE=image/jpeg:https://fcsbasket.com/wp-content/uploads/2025/05/fcs-clip-sub14f.avif
ORGANIZER;CN="Basket Club de Campo":MAILTO:coordenacao@fcsbasket.com
END:VEVENT
END:VCALENDAR