BEGIN:VCALENDAR
VERSION:2.0
PRODID:-//FCS - Basket Club de Campo - ECPv6.15.20//NONSGML v1.0//EN
CALSCALE:GREGORIAN
METHOD:PUBLISH
X-ORIGINAL-URL:https://fcsbasket.com
X-WR-CALDESC:Eventos para FCS - Basket Club de Campo
REFRESH-INTERVAL;VALUE=DURATION:PT1H
X-Robots-Tag:noindex
X-PUBLISHED-TTL:PT1H
BEGIN:VTIMEZONE
TZID:UTC
BEGIN:STANDARD
TZOFFSETFROM:+0000
TZOFFSETTO:+0000
TZNAME:UTC
DTSTART:20240101T000000
END:STANDARD
END:VTIMEZONE
BEGIN:VEVENT
DTSTART;TZID=UTC:20250525T143000
DTEND;TZID=UTC:20250525T163000
DTSTAMP:20260424T125023
CREATED:20250522T165904Z
LAST-MODIFIED:20250522T170857Z
UID:10000118-1748183400-1748190600@fcsbasket.com
SUMMARY:FCS/BC CAMPO vs POWERTOGETHER B  SUB 16M
DESCRIPTION:14:30 25 MAI 2025
URL:https://fcsbasket.com/evento/fcs-bc-campo-vs-powertogether-b-sub-16m/
LOCATION:PAVILHÃO MUNICIPAL DE CAMPO\, Tv. de São Domingos 200\, Campo - Valongo\, Porto\, 4440-191\, Portugal
CATEGORIES:Jogo
ATTACH;FMTTYPE=image/jpeg:https://fcsbasket.com/wp-content/uploads/2025/05/FCS-POWERTOGETHER-SUB16M.avif
ORGANIZER;CN="Basket Club de Campo":MAILTO:coordenacao@fcsbasket.com
END:VEVENT
END:VCALENDAR