BEGIN:VCALENDAR
VERSION:2.0
PRODID:-//FCS - Basket Club de Campo - ECPv6.15.20//NONSGML v1.0//EN
CALSCALE:GREGORIAN
METHOD:PUBLISH
X-ORIGINAL-URL:https://fcsbasket.com
X-WR-CALDESC:Eventos para FCS - Basket Club de Campo
REFRESH-INTERVAL;VALUE=DURATION:PT1H
X-Robots-Tag:noindex
X-PUBLISHED-TTL:PT1H
BEGIN:VTIMEZONE
TZID:UTC
BEGIN:STANDARD
TZOFFSETFROM:+0000
TZOFFSETTO:+0000
TZNAME:UTC
DTSTART:20240101T000000
END:STANDARD
END:VTIMEZONE
BEGIN:VEVENT
DTSTART;TZID=UTC:20250517T150000
DTEND;TZID=UTC:20250517T170000
DTSTAMP:20260424T124753
CREATED:20250515T145149Z
LAST-MODIFIED:20250516T085015Z
UID:10000111-1747494000-1747501200@fcsbasket.com
SUMMARY:CB VIANA A vs FCS/BC CAMPO  SUB 16M
DESCRIPTION:15:00 17 MAI 2025
URL:https://fcsbasket.com/evento/cb-viana-a-vs-fcs-bc-campo-sub-16m/
LOCATION:PAVILHÃO M. STª MARIA MAIOR\, Av. Cap. Gaspar de Castro\, Viana do Castelo\, 4900-462\, Portugal
CATEGORIES:Jogo
ATTACH;FMTTYPE=image/jpeg:https://fcsbasket.com/wp-content/uploads/2025/05/cb-viana-fcs-sub16m.avif
GEO:41.7006743;-8.82257
X-APPLE-STRUCTURED-LOCATION;VALUE=URI;X-ADDRESS=PAVILHÃO M. STª MARIA MAIOR Av. Cap. Gaspar de Castro Viana do Castelo 4900-462 Portugal;X-APPLE-RADIUS=500;X-TITLE=Av. Cap. Gaspar de Castro:geo:-8.82257,41.7006743
END:VEVENT
END:VCALENDAR