BEGIN:VCALENDAR
VERSION:2.0
PRODID:-//FCS - Basket Club de Campo - ECPv6.15.20//NONSGML v1.0//EN
CALSCALE:GREGORIAN
METHOD:PUBLISH
X-WR-CALNAME:FCS - Basket Club de Campo
X-ORIGINAL-URL:https://fcsbasket.com
X-WR-CALDESC:Eventos para FCS - Basket Club de Campo
REFRESH-INTERVAL;VALUE=DURATION:PT1H
X-Robots-Tag:noindex
X-PUBLISHED-TTL:PT1H
BEGIN:VTIMEZONE
TZID:UTC
BEGIN:STANDARD
TZOFFSETFROM:+0000
TZOFFSETTO:+0000
TZNAME:UTC
DTSTART:20240101T000000
END:STANDARD
END:VTIMEZONE
BEGIN:VEVENT
DTSTART;TZID=UTC:20250427T110000
DTEND;TZID=UTC:20250427T130000
DTSTAMP:20260424T200155
CREATED:20250324T100449Z
LAST-MODIFIED:20250424T172708Z
UID:10000091-1745751600-1745758800@fcsbasket.com
SUMMARY:FCS/BC CAMPO vs ACR VIGOROSA  SUB 16M
DESCRIPTION:11:00 27 ABR 2025
URL:https://fcsbasket.com/evento/fcs-bc-campo-vs-acrv-filipe-automoveis-sub16m/
LOCATION:PAVILHÃO MUNICIPAL DE CAMPO\, Tv. de São Domingos 200\, Campo - Valongo\, Porto\, 4440-191\, Portugal
CATEGORIES:Jogo
ATTACH;FMTTYPE=image/jpeg:https://fcsbasket.com/wp-content/uploads/2025/03/FCS-ACR-VIGOROSA-SUB16M.avif
ORGANIZER;CN="Basket Club de Campo":MAILTO:coordenacao@fcsbasket.com
END:VEVENT
END:VCALENDAR