BEGIN:VCALENDAR
VERSION:2.0
PRODID:-//FCS - Basket Club de Campo - ECPv6.15.20//NONSGML v1.0//EN
CALSCALE:GREGORIAN
METHOD:PUBLISH
X-ORIGINAL-URL:https://fcsbasket.com
X-WR-CALDESC:Eventos para FCS - Basket Club de Campo
REFRESH-INTERVAL;VALUE=DURATION:PT1H
X-Robots-Tag:noindex
X-PUBLISHED-TTL:PT1H
BEGIN:VTIMEZONE
TZID:UTC
BEGIN:STANDARD
TZOFFSETFROM:+0000
TZOFFSETTO:+0000
TZNAME:UTC
DTSTART:20250101T000000
END:STANDARD
END:VTIMEZONE
BEGIN:VEVENT
DTSTART;TZID=UTC:20260110T143000
DTEND;TZID=UTC:20260110T163000
DTSTAMP:20260419T142310
CREATED:20260109T090220Z
LAST-MODIFIED:20260109T090220Z
UID:10000175-1768055400-1768062600@fcsbasket.com
SUMMARY:BC MARCO VS BASKET CLUB DE CAMPO SUB 16M
DESCRIPTION:14:30 10 JAN 2026
URL:https://fcsbasket.com/evento/bc-marco-vs-basket-club-de-campo-sub-16m/
LOCATION:ESCOLA SEC. MARCO CANAVESES\, Av. Engº Adelino Amaro da Costa Marco de Canaveses\, MARCO CANAVESES\, 4630-000\, Portugal
CATEGORIES:Jogo
ATTACH;FMTTYPE=image/jpeg:https://fcsbasket.com/wp-content/uploads/2026/01/MARCO-FCS-SUB16M.jpg
END:VEVENT
BEGIN:VEVENT
DTSTART;TZID=UTC:20260116T211500
DTEND;TZID=UTC:20260116T230000
DTSTAMP:20260419T142310
CREATED:20260109T090731Z
LAST-MODIFIED:20260112T085035Z
UID:10000178-1768598100-1768604400@fcsbasket.com
SUMMARY:D. LEÇA B VS BASKET CLUB DE CAMPO SUB 16M
DESCRIPTION:21:15 16 JAN 2026
URL:https://fcsbasket.com/evento/d-leca-b-vs-basket-club-de-campo-sub-16m/
LOCATION:PAVILHÃO MUNICIPAL LEÇA PALMEIRA\, Rua Veloso Salgado\, Leça da Palmeira\, 4450-801\, Portugal
CATEGORIES:Jogo
ATTACH;FMTTYPE=image/jpeg:https://fcsbasket.com/wp-content/uploads/2026/01/LECA-FCS-SUB16M.jpg
GEO:41.2054559;-8.6933381
X-APPLE-STRUCTURED-LOCATION;VALUE=URI;X-ADDRESS=PAVILHÃO MUNICIPAL LEÇA PALMEIRA Rua Veloso Salgado Leça da Palmeira 4450-801 Portugal;X-APPLE-RADIUS=500;X-TITLE=Rua Veloso Salgado:geo:-8.6933381,41.2054559
END:VEVENT
BEGIN:VEVENT
DTSTART;TZID=UTC:20260118T143000
DTEND;TZID=UTC:20260118T163000
DTSTAMP:20260419T142310
CREATED:20260109T090910Z
LAST-MODIFIED:20260112T085113Z
UID:10000179-1768746600-1768753800@fcsbasket.com
SUMMARY:BASKET CLUB DE CAMPO VS CD PÓVOA B SUB 16M
DESCRIPTION:14:30 18 JAN 2026
URL:https://fcsbasket.com/evento/basket-club-de-campo-vs-cd-povoa-b-sub-16m/
LOCATION:PAVILHÃO MUNICIPAL DE CAMPO\, Tv. de São Domingos 200\, Campo - Valongo\, Porto\, 4440-191\, Portugal
CATEGORIES:Jogo
ATTACH;FMTTYPE=image/jpeg:https://fcsbasket.com/wp-content/uploads/2026/01/FCS-POVOA-SUB16M.jpg
ORGANIZER;CN="Basket Club de Campo":MAILTO:coordenacao@fcsbasket.com
END:VEVENT
END:VCALENDAR