BEGIN:VCALENDAR
VERSION:2.0
PRODID:-//FCS - Basket Club de Campo - ECPv6.15.20//NONSGML v1.0//EN
CALSCALE:GREGORIAN
METHOD:PUBLISH
X-ORIGINAL-URL:https://fcsbasket.com
X-WR-CALDESC:Eventos para FCS - Basket Club de Campo
REFRESH-INTERVAL;VALUE=DURATION:PT1H
X-Robots-Tag:noindex
X-PUBLISHED-TTL:PT1H
BEGIN:VTIMEZONE
TZID:UTC
BEGIN:STANDARD
TZOFFSETFROM:+0000
TZOFFSETTO:+0000
TZNAME:UTC
DTSTART:20240101T000000
END:STANDARD
END:VTIMEZONE
BEGIN:VEVENT
DTSTART;TZID=UTC:20250601T090000
DTEND;TZID=UTC:20250601T110000
DTSTAMP:20260424T092325
CREATED:20250529T105130Z
LAST-MODIFIED:20250529T112258Z
UID:10000121-1748768400-1748775600@fcsbasket.com
SUMMARY:ACRV vs FCS/BC CAMPO  SUB 16M
DESCRIPTION:09:00 01 JUN 2025
URL:https://fcsbasket.com/evento/acrv-vs-fcs-bc-campo-sub-16m/
LOCATION:ESCOLA EB23 PROF. NAPOLEÃO DE SOUSA MARQUES\, Rua Abílio Costa Couto\, 78\, TROFA\, PORTO\, 4785-275\, Portugal
CATEGORIES:Jogo
ATTACH;FMTTYPE=image/jpeg:https://fcsbasket.com/wp-content/uploads/2025/05/acrv-fcs-sub16m.avif
END:VEVENT
BEGIN:VEVENT
DTSTART;TZID=UTC:20250608T110000
DTEND;TZID=UTC:20250608T130000
DTSTAMP:20260424T092325
CREATED:20250606T093836Z
LAST-MODIFIED:20250606T100207Z
UID:10000124-1749380400-1749387600@fcsbasket.com
SUMMARY:FCS/BC CAMPO vs FC GAIA C  SUB 16M
DESCRIPTION:11:00 08 JUN 2025
URL:https://fcsbasket.com/evento/fcs-bc-campo-vs-fc-gaia-c-sub-16m/
LOCATION:PAVILHÃO MUNICIPAL DE SOBRADO\, Tv. de Campelo\, Sobrado\, 4440-452\, Portugal
CATEGORIES:Jogo
ATTACH;FMTTYPE=image/png:https://fcsbasket.com/wp-content/uploads/2025/06/FCS-FCGAIA-SUB16M.avif
ORGANIZER;CN="Basket Club de Campo":MAILTO:coordenacao@fcsbasket.com
END:VEVENT
BEGIN:VEVENT
DTSTART;TZID=UTC:20250610T113000
DTEND;TZID=UTC:20250610T133000
DTSTAMP:20260424T092325
CREATED:20250606T101116Z
LAST-MODIFIED:20250606T103921Z
UID:10000128-1749555000-1749562200@fcsbasket.com
SUMMARY:CBP 2012 C vs FCS/BC CAMPO  SUB 16M
DESCRIPTION:11:30 10 JUN 2025
URL:https://fcsbasket.com/evento/cbp-2012-c-vs-fcs-bc-campo-sub-16m/
LOCATION:PAVILHÃO CENTRO ESCOLAR PENAFIEL\, Rua Abílio Miranda\, Penafiel\, PORTO\, 4560-501\, Portugal
CATEGORIES:Jogo
ATTACH;FMTTYPE=image/png:https://fcsbasket.com/wp-content/uploads/2025/06/cbp-2012-fcs-sub16m.avif
END:VEVENT
END:VCALENDAR