BEGIN:VCALENDAR
VERSION:2.0
PRODID:-//FCS - Basket Club de Campo - ECPv6.15.20//NONSGML v1.0//EN
CALSCALE:GREGORIAN
METHOD:PUBLISH
X-ORIGINAL-URL:https://fcsbasket.com
X-WR-CALDESC:Eventos para FCS - Basket Club de Campo
REFRESH-INTERVAL;VALUE=DURATION:PT1H
X-Robots-Tag:noindex
X-PUBLISHED-TTL:PT1H
BEGIN:VTIMEZONE
TZID:UTC
BEGIN:STANDARD
TZOFFSETFROM:+0000
TZOFFSETTO:+0000
TZNAME:UTC
DTSTART:20240101T000000
END:STANDARD
END:VTIMEZONE
BEGIN:VEVENT
DTSTART;TZID=UTC:20250510T110000
DTEND;TZID=UTC:20250510T130000
DTSTAMP:20260421T084619
CREATED:20250504T175328Z
LAST-MODIFIED:20250509T172231Z
UID:10000107-1746874800-1746882000@fcsbasket.com
SUMMARY:VAGOS vs FCS/BC CAMPO  SUB 16F
DESCRIPTION:11:00 10 MAI 2025
URL:https://fcsbasket.com/evento/vagos-vs-fcs-bc-campo-sub-16f/
LOCATION:PAVILHÃO MUNICIPAL DE VAGOS\, Rua Padre Alirio de Melo\, VAGOS\, 3840-404\, Portugal
CATEGORIES:Jogo
ATTACH;FMTTYPE=image/jpeg:https://fcsbasket.com/wp-content/uploads/2025/05/VAGOS-FCS-SUB16F.avif
END:VEVENT
END:VCALENDAR