BEGIN:VCALENDAR
VERSION:2.0
PRODID:-//FCS - Basket Club de Campo - ECPv6.15.20//NONSGML v1.0//EN
CALSCALE:GREGORIAN
METHOD:PUBLISH
X-WR-CALNAME:FCS - Basket Club de Campo
X-ORIGINAL-URL:https://fcsbasket.com
X-WR-CALDESC:Eventos para FCS - Basket Club de Campo
REFRESH-INTERVAL;VALUE=DURATION:PT1H
X-Robots-Tag:noindex
X-PUBLISHED-TTL:PT1H
BEGIN:VTIMEZONE
TZID:UTC
BEGIN:STANDARD
TZOFFSETFROM:+0000
TZOFFSETTO:+0000
TZNAME:UTC
DTSTART:20250101T000000
END:STANDARD
END:VTIMEZONE
BEGIN:VEVENT
DTSTART;TZID=UTC:20260124T090000
DTEND;TZID=UTC:20260124T110000
DTSTAMP:20260423T121209
CREATED:20260109T091226Z
LAST-MODIFIED:20260120T093440Z
UID:10000182-1769245200-1769252400@fcsbasket.com
SUMMARY:BASKET CLUB DE CAMPO VS ACADÉMICO B SUB 14M
DESCRIPTION:09:00 24 JAN 2026
URL:https://fcsbasket.com/evento/basket-club-de-campo-vs-academico-b-sub-14m/
LOCATION:PAVILHÃO MUNICIPAL DE CAMPO\, Tv. de São Domingos 200\, Campo - Valongo\, Porto\, 4440-191\, Portugal
CATEGORIES:Jogo
ATTACH;FMTTYPE=image/jpeg:https://fcsbasket.com/wp-content/uploads/2026/01/fcs-afc-sub14m.jpg
ORGANIZER;CN="Basket Club de Campo":MAILTO:coordenacao@fcsbasket.com
END:VEVENT
END:VCALENDAR