BEGIN:VCALENDAR
VERSION:2.0
PRODID:-//FCS - Basket Club de Campo - ECPv6.15.20//NONSGML v1.0//EN
CALSCALE:GREGORIAN
METHOD:PUBLISH
X-ORIGINAL-URL:https://fcsbasket.com
X-WR-CALDESC:Eventos para FCS - Basket Club de Campo
REFRESH-INTERVAL;VALUE=DURATION:PT1H
X-Robots-Tag:noindex
X-PUBLISHED-TTL:PT1H
BEGIN:VTIMEZONE
TZID:UTC
BEGIN:STANDARD
TZOFFSETFROM:+0000
TZOFFSETTO:+0000
TZNAME:UTC
DTSTART:20250101T000000
END:STANDARD
END:VTIMEZONE
BEGIN:VEVENT
DTSTART;TZID=UTC:20260104T093000
DTEND;TZID=UTC:20260104T113000
DTSTAMP:20260423T121409
CREATED:20260102T140451Z
LAST-MODIFIED:20260102T140528Z
UID:10000173-1767519000-1767526200@fcsbasket.com
SUMMARY:ACADÉMICO / RIBADOURO VS BASKET CLUB DE CAMPO SUB 14M
DESCRIPTION:09:30 04 JAN 2026
URL:https://fcsbasket.com/evento/academico-ribadouro-vs-basket-club-de-campo-sub-14m/
LOCATION:PAVILHÃO MÁRIO NAVEGA\, Rua Costa Cabral\, 96\, Porto\, 4200-208\, Portugal
CATEGORIES:Jogo
ATTACH;FMTTYPE=image/jpeg:https://fcsbasket.com/wp-content/uploads/2026/01/WhatsApp-Image-2026-01-02-at-13.57.16.jpeg
END:VEVENT
END:VCALENDAR