BEGIN:VCALENDAR
VERSION:2.0
PRODID:-//FCS - Basket Club de Campo - ECPv6.15.20//NONSGML v1.0//EN
CALSCALE:GREGORIAN
METHOD:PUBLISH
X-WR-CALNAME:FCS - Basket Club de Campo
X-ORIGINAL-URL:https://fcsbasket.com
X-WR-CALDESC:Eventos para FCS - Basket Club de Campo
REFRESH-INTERVAL;VALUE=DURATION:PT1H
X-Robots-Tag:noindex
X-PUBLISHED-TTL:PT1H
BEGIN:VTIMEZONE
TZID:UTC
BEGIN:STANDARD
TZOFFSETFROM:+0000
TZOFFSETTO:+0000
TZNAME:UTC
DTSTART:20240101T000000
END:STANDARD
END:VTIMEZONE
BEGIN:VEVENT
DTSTART;TZID=UTC:20251130T163000
DTEND;TZID=UTC:20251130T183000
DTSTAMP:20260423T153034
CREATED:20251127T084507Z
LAST-MODIFIED:20251127T091151Z
UID:10000162-1764520200-1764527400@fcsbasket.com
SUMMARY:CPN VS BASKET CLUB DE CAMPO SUB 14M
DESCRIPTION:16:30 30 NOV 2025
URL:https://fcsbasket.com/evento/cpn-vs-basket-club-de-campo-sub-14m/
LOCATION:PAVILHÃO MUNICIPAL ERMESINDE\, Rua do Clube de Propaganda de Natação\, 53\, Ermesinde\, 4445-380\, Portugal
CATEGORIES:Jogo
ATTACH;FMTTYPE=image/jpeg:https://fcsbasket.com/wp-content/uploads/2025/11/CPN-FCS-SUB14M.jpg
END:VEVENT
END:VCALENDAR