BEGIN:VCALENDAR
VERSION:2.0
PRODID:-//FCS - Basket Club de Campo - ECPv6.15.20//NONSGML v1.0//EN
CALSCALE:GREGORIAN
METHOD:PUBLISH
X-WR-CALNAME:FCS - Basket Club de Campo
X-ORIGINAL-URL:https://fcsbasket.com
X-WR-CALDESC:Eventos para FCS - Basket Club de Campo
REFRESH-INTERVAL;VALUE=DURATION:PT1H
X-Robots-Tag:noindex
X-PUBLISHED-TTL:PT1H
BEGIN:VTIMEZONE
TZID:UTC
BEGIN:STANDARD
TZOFFSETFROM:+0000
TZOFFSETTO:+0000
TZNAME:UTC
DTSTART:20240101T000000
END:STANDARD
END:VTIMEZONE
BEGIN:VEVENT
DTSTART;TZID=UTC:20250427T113000
DTEND;TZID=UTC:20250427T133000
DTSTAMP:20260424T034811
CREATED:20250421T074544Z
LAST-MODIFIED:20250424T172815Z
UID:10000097-1745753400-1745760600@fcsbasket.com
SUMMARY:CLUB 5BASKET B vs FCS/BC CAMPO  SUB 14M
DESCRIPTION:11:30 27 ABR 2025
URL:https://fcsbasket.com/evento/club-5basket-b-vs-fcs-bc-campo-sub-14m/
LOCATION:PAVILHÃO MUNICIPAL SÃO PEDRO DA COVA\, Tv. das Azáleas 246\, São Pedro da Cova\, 4510-246\, Portugal
CATEGORIES:Jogo
ATTACH;FMTTYPE=image/png:https://fcsbasket.com/wp-content/uploads/2025/01/5BASKET-FCS-SUB-14-M-png.avif
END:VEVENT
END:VCALENDAR