BEGIN:VCALENDAR
VERSION:2.0
PRODID:-//FCS - Basket Club de Campo - ECPv6.15.20//NONSGML v1.0//EN
CALSCALE:GREGORIAN
METHOD:PUBLISH
X-ORIGINAL-URL:https://fcsbasket.com
X-WR-CALDESC:Eventos para FCS - Basket Club de Campo
REFRESH-INTERVAL;VALUE=DURATION:PT1H
X-Robots-Tag:noindex
X-PUBLISHED-TTL:PT1H
BEGIN:VTIMEZONE
TZID:UTC
BEGIN:STANDARD
TZOFFSETFROM:+0000
TZOFFSETTO:+0000
TZNAME:UTC
DTSTART:20240101T000000
END:STANDARD
END:VTIMEZONE
BEGIN:VEVENT
DTSTART;TZID=UTC:20250131T213000
DTEND;TZID=UTC:20250131T223000
DTSTAMP:20260424T065602
CREATED:20250126T125132Z
LAST-MODIFIED:20250130T154043Z
UID:10000054-1738359000-1738362600@fcsbasket.com
SUMMARY:CLUB 5BASKET vs FCS/BC CAMPO SUB14 M
DESCRIPTION:21:30 31 JAN 2025
URL:https://fcsbasket.com/evento/club-5basket-vs-fcs-bc-campo-sub14-m/
LOCATION:PAVILHÃO MUNICIPAL DE CAMPO\, Tv. de São Domingos 200\, Campo - Valongo\, Porto\, 4440-191\, Portugal
CATEGORIES:Jogo
ATTACH;FMTTYPE=image/png:https://fcsbasket.com/wp-content/uploads/2025/01/5BASKET-FCS-SUB-14-M-png.avif
END:VEVENT
END:VCALENDAR