BEGIN:VCALENDAR
VERSION:2.0
PRODID:-//FCS - Basket Club de Campo - ECPv6.15.20//NONSGML v1.0//EN
CALSCALE:GREGORIAN
METHOD:PUBLISH
X-WR-CALNAME:FCS - Basket Club de Campo
X-ORIGINAL-URL:https://fcsbasket.com
X-WR-CALDESC:Eventos para FCS - Basket Club de Campo
REFRESH-INTERVAL;VALUE=DURATION:PT1H
X-Robots-Tag:noindex
X-PUBLISHED-TTL:PT1H
BEGIN:VTIMEZONE
TZID:UTC
BEGIN:STANDARD
TZOFFSETFROM:+0000
TZOFFSETTO:+0000
TZNAME:UTC
DTSTART:20240101T000000
END:STANDARD
END:VTIMEZONE
BEGIN:VEVENT
DTSTART;TZID=UTC:20250112T183000
DTEND;TZID=UTC:20250112T203000
DTSTAMP:20260424T084538
CREATED:20241209T143943Z
LAST-MODIFIED:20241209T144800Z
UID:10000044-1736706600-1736713800@fcsbasket.com
SUMMARY:FCS/BC CAMPO vs CP NATAÇÃO SUB14 M
DESCRIPTION:18:30 12 JAN 2025
URL:https://fcsbasket.com/evento/fcs-bc-campo-vs-cp-natacao-sub14-m/
LOCATION:PAVILHÃO MUNICIPAL DE CAMPO\, Tv. de São Domingos 200\, Campo - Valongo\, Porto\, 4440-191\, Portugal
CATEGORIES:Jogo
ATTACH;FMTTYPE=image/png:https://fcsbasket.com/wp-content/uploads/2024/12/14m.fcs_.cpn_.png
ORGANIZER;CN="Basket Club de Campo":MAILTO:coordenacao@fcsbasket.com
END:VEVENT
END:VCALENDAR