BEGIN:VCALENDAR
VERSION:2.0
PRODID:-//FCS - Basket Club de Campo - ECPv6.15.20//NONSGML v1.0//EN
CALSCALE:GREGORIAN
METHOD:PUBLISH
X-WR-CALNAME:FCS - Basket Club de Campo
X-ORIGINAL-URL:https://fcsbasket.com
X-WR-CALDESC:Eventos para FCS - Basket Club de Campo
REFRESH-INTERVAL;VALUE=DURATION:PT1H
X-Robots-Tag:noindex
X-PUBLISHED-TTL:PT1H
BEGIN:VTIMEZONE
TZID:UTC
BEGIN:STANDARD
TZOFFSETFROM:+0000
TZOFFSETTO:+0000
TZNAME:UTC
DTSTART:20240101T000000
END:STANDARD
END:VTIMEZONE
BEGIN:VEVENT
DTSTART;TZID=UTC:20251102T100000
DTEND;TZID=UTC:20251102T120000
DTSTAMP:20260423T135012
CREATED:20251027T135315Z
LAST-MODIFIED:20251027T135315Z
UID:10000147-1762077600-1762084800@fcsbasket.com
SUMMARY:ALFENENSE VS BASKET CLUB DE CAMPO SUB 14M
DESCRIPTION:10:00 2 NOV 2025
URL:https://fcsbasket.com/evento/alfenense-vs-basket-club-de-campo-sub-14m/
LOCATION:PAVILHÃO GIMNODESPORTIVO ALFENENSE\, Rua das Passarias\, 616\, Alfena\, PORTO\, 4445-171\, Portugal
CATEGORIES:Jogo
ATTACH;FMTTYPE=image/jpeg:https://fcsbasket.com/wp-content/uploads/2025/10/ALFENENSE-FCS-SUB14M.jpg
END:VEVENT
BEGIN:VEVENT
DTSTART;TZID=UTC:20251108T143000
DTEND;TZID=UTC:20251108T163000
DTSTAMP:20260423T135012
CREATED:20251106T110104Z
LAST-MODIFIED:20251106T110838Z
UID:10000148-1762612200-1762619400@fcsbasket.com
SUMMARY:BASKET CLUB DE CAMPO VS MAIA BASKET A SUB 14M
DESCRIPTION:14:30 8 NOV 2025
URL:https://fcsbasket.com/evento/basket-club-de-campo-vs-maia-basket-a-sub-14m/
LOCATION:PAVILHÃO MUNICIPAL DE CAMPO\, Tv. de São Domingos 200\, Campo - Valongo\, Porto\, 4440-191\, Portugal
CATEGORIES:Jogo
ATTACH;FMTTYPE=image/jpeg:https://fcsbasket.com/wp-content/uploads/2025/11/FCS-MAIA-SUB14M.jpg
ORGANIZER;CN="Basket Club de Campo":MAILTO:coordenacao@fcsbasket.com
END:VEVENT
BEGIN:VEVENT
DTSTART;TZID=UTC:20251109T163000
DTEND;TZID=UTC:20251109T183000
DTSTAMP:20260423T135012
CREATED:20251106T110424Z
LAST-MODIFIED:20251106T110706Z
UID:10000151-1762705800-1762713000@fcsbasket.com
SUMMARY:BASKET CLUB DE CAMPO VS CPN SUB 14M
DESCRIPTION:16:30 09 NOV 2025
URL:https://fcsbasket.com/evento/basket-club-de-campo-vs-cpn-sub-14m/
LOCATION:PAVILHÃO MUNICIPAL DE CAMPO\, Tv. de São Domingos 200\, Campo - Valongo\, Porto\, 4440-191\, Portugal
CATEGORIES:Jogo
ATTACH;FMTTYPE=image/jpeg:https://fcsbasket.com/wp-content/uploads/2025/11/FCS-CPN-SUB14M.jpg
ORGANIZER;CN="Basket Club de Campo":MAILTO:coordenacao@fcsbasket.com
END:VEVENT
BEGIN:VEVENT
DTSTART;TZID=UTC:20251115T090000
DTEND;TZID=UTC:20251115T110000
DTSTAMP:20260423T135012
CREATED:20251113T140852Z
LAST-MODIFIED:20251113T140852Z
UID:10000152-1763197200-1763204400@fcsbasket.com
SUMMARY:BASKET CLUB DE CAMPO VS ALFENENSE SUB 14M
DESCRIPTION:09:00 15 NOV 2025
URL:https://fcsbasket.com/evento/basket-club-de-campo-vs-alfenense-sub-14m/
LOCATION:PAVILHÃO MUNICIPAL DE CAMPO\, Tv. de São Domingos 200\, Campo - Valongo\, Porto\, 4440-191\, Portugal
CATEGORIES:Jogo
ATTACH;FMTTYPE=image/jpeg:https://fcsbasket.com/wp-content/uploads/2025/11/FCS-ALFENENSE-SUB14M.jpg
ORGANIZER;CN="Basket Club de Campo":MAILTO:coordenacao@fcsbasket.com
END:VEVENT
BEGIN:VEVENT
DTSTART;TZID=UTC:20251123T143000
DTEND;TZID=UTC:20251123T163000
DTSTAMP:20260423T135012
CREATED:20251121T092712Z
LAST-MODIFIED:20251121T092712Z
UID:10000159-1763908200-1763915400@fcsbasket.com
SUMMARY:MAIA BASKET A VS BASKET CLUB DE CAMPO SUB 14M
DESCRIPTION:14:30 23 NOV 2025
URL:https://fcsbasket.com/evento/maia-basket-a-vs-basket-club-de-campo-sub-14m/
LOCATION:PAVILHÃO MUNICIPAL NOGUEIRA DA MAIA\, R. Eusébio da Silva Ferreira\, Milheirós\, 4475-457\, Portugal
CATEGORIES:Jogo
ATTACH;FMTTYPE=image/jpeg:https://fcsbasket.com/wp-content/uploads/2025/11/maia-fcs-sub14m.jpg
END:VEVENT
BEGIN:VEVENT
DTSTART;TZID=UTC:20251130T163000
DTEND;TZID=UTC:20251130T183000
DTSTAMP:20260423T135012
CREATED:20251127T084507Z
LAST-MODIFIED:20251127T091151Z
UID:10000162-1764520200-1764527400@fcsbasket.com
SUMMARY:CPN VS BASKET CLUB DE CAMPO SUB 14M
DESCRIPTION:16:30 30 NOV 2025
URL:https://fcsbasket.com/evento/cpn-vs-basket-club-de-campo-sub-14m/
LOCATION:PAVILHÃO MUNICIPAL ERMESINDE\, Rua do Clube de Propaganda de Natação\, 53\, Ermesinde\, 4445-380\, Portugal
CATEGORIES:Jogo
ATTACH;FMTTYPE=image/jpeg:https://fcsbasket.com/wp-content/uploads/2025/11/CPN-FCS-SUB14M.jpg
END:VEVENT
END:VCALENDAR