BEGIN:VCALENDAR
VERSION:2.0
PRODID:-//FCS - Basket Club de Campo - ECPv6.15.20//NONSGML v1.0//EN
CALSCALE:GREGORIAN
METHOD:PUBLISH
X-WR-CALNAME:FCS - Basket Club de Campo
X-ORIGINAL-URL:https://fcsbasket.com
X-WR-CALDESC:Eventos para FCS - Basket Club de Campo
REFRESH-INTERVAL;VALUE=DURATION:PT1H
X-Robots-Tag:noindex
X-PUBLISHED-TTL:PT1H
BEGIN:VTIMEZONE
TZID:UTC
BEGIN:STANDARD
TZOFFSETFROM:+0000
TZOFFSETTO:+0000
TZNAME:UTC
DTSTART:20240101T000000
END:STANDARD
END:VTIMEZONE
BEGIN:VEVENT
DTSTART;TZID=UTC:20250608T143000
DTEND;TZID=UTC:20250608T163000
DTSTAMP:20260423T221057
CREATED:20250606T093710Z
LAST-MODIFIED:20250606T100252Z
UID:10000123-1749393000-1749400200@fcsbasket.com
SUMMARY:FCS/BC CAMPO vs MONÇÃO BC  SUB 14M
DESCRIPTION:14:30 08 JUN 2025
URL:https://fcsbasket.com/evento/fcs-bc-campo-vs-moncao-bc-sub-14m/
LOCATION:PAVILHÃO MUNICIPAL DE SOBRADO\, Tv. de Campelo\, Sobrado\, 4440-452\, Portugal
CATEGORIES:Jogo
ATTACH;FMTTYPE=image/jpeg:https://fcsbasket.com/wp-content/uploads/2025/06/FCS-MONCAO-SUB14M.avif
ORGANIZER;CN="Basket Club de Campo":MAILTO:coordenacao@fcsbasket.com
END:VEVENT
BEGIN:VEVENT
DTSTART;TZID=UTC:20250610T090000
DTEND;TZID=UTC:20250610T110000
DTSTAMP:20260423T221057
CREATED:20250606T100818Z
LAST-MODIFIED:20250606T102457Z
UID:10000127-1749546000-1749553200@fcsbasket.com
SUMMARY:AC ALFENENSE vs FCS/BC CAMPO  SUB 14M
DESCRIPTION:09:00 10 JUN 2025
URL:https://fcsbasket.com/evento/ac-alfenense-vs-fcs-bc-campo-sub-14m/
LOCATION:PAVILHÃO GIMNODESPORTIVO ALFENENSE\, Rua das Passarias\, 616\, Alfena\, PORTO\, 4445-171\, Portugal
CATEGORIES:Jogo
ATTACH;FMTTYPE=image/png:https://fcsbasket.com/wp-content/uploads/2025/06/ac-alfenense-fcs-sub14m.avif
END:VEVENT
END:VCALENDAR