BEGIN:VCALENDAR
VERSION:2.0
PRODID:-//FCS - Basket Club de Campo - ECPv6.15.20//NONSGML v1.0//EN
CALSCALE:GREGORIAN
METHOD:PUBLISH
X-ORIGINAL-URL:https://fcsbasket.com
X-WR-CALDESC:Eventos para FCS - Basket Club de Campo
REFRESH-INTERVAL;VALUE=DURATION:PT1H
X-Robots-Tag:noindex
X-PUBLISHED-TTL:PT1H
BEGIN:VTIMEZONE
TZID:UTC
BEGIN:STANDARD
TZOFFSETFROM:+0000
TZOFFSETTO:+0000
TZNAME:UTC
DTSTART:20240101T000000
END:STANDARD
END:VTIMEZONE
BEGIN:VEVENT
DTSTART;TZID=UTC:20251115T114500
DTEND;TZID=UTC:20251115T134500
DTSTAMP:20260419T175516
CREATED:20251113T141034Z
LAST-MODIFIED:20251113T141034Z
UID:10000153-1763207100-1763214300@fcsbasket.com
SUMMARY:SALESIANOS VS BASKET CLUB DE CAMPO SUB 14F
DESCRIPTION:11:45 15 NOV 2025
URL:https://fcsbasket.com/evento/salesianos-vs-basket-club-de-campo-sub-14f/
LOCATION:PAVILHÃO SALESIANOS DO PORTO\, Largo Padre Baltasar Guedes\, Porto\, Porto\, 4300-059\, Portugal
CATEGORIES:Jogo
ATTACH;FMTTYPE=image/jpeg:https://fcsbasket.com/wp-content/uploads/2025/11/SALESIANOS-FCS-SUB14F.jpg
END:VEVENT
END:VCALENDAR