BEGIN:VCALENDAR
VERSION:2.0
PRODID:-//FCS - Basket Club de Campo - ECPv6.15.20//NONSGML v1.0//EN
CALSCALE:GREGORIAN
METHOD:PUBLISH
X-WR-CALNAME:FCS - Basket Club de Campo
X-ORIGINAL-URL:https://fcsbasket.com
X-WR-CALDESC:Eventos para FCS - Basket Club de Campo
REFRESH-INTERVAL;VALUE=DURATION:PT1H
X-Robots-Tag:noindex
X-PUBLISHED-TTL:PT1H
BEGIN:VTIMEZONE
TZID:UTC
BEGIN:STANDARD
TZOFFSETFROM:+0000
TZOFFSETTO:+0000
TZNAME:UTC
DTSTART:20240101T000000
END:STANDARD
END:VTIMEZONE
BEGIN:VEVENT
DTSTART;TZID=UTC:20250323T183000
DTEND;TZID=UTC:20250323T203000
DTSTAMP:20260421T121015
CREATED:20250217T144132Z
LAST-MODIFIED:20250313T145942Z
UID:10000080-1742754600-1742761800@fcsbasket.com
SUMMARY:JUVEMAIA ACDC vs FCS/BC CAMPO SENIORES F
DESCRIPTION:18:30 23 MAR 2025
URL:https://fcsbasket.com/evento/juvemaia-acdc-vs-fcs-bc-campo-seniores-f/
LOCATION:PAVILHÃO MUNICIPAL NOGUEIRA DA MAIA\, R. Eusébio da Silva Ferreira\, Milheirós\, 4475-457\, Portugal
CATEGORIES:Jogo
ATTACH;FMTTYPE=image/jpeg:https://fcsbasket.com/wp-content/uploads/2025/02/JUVEMAIA-FCS-SENIORESF.avif
END:VEVENT
END:VCALENDAR