BEGIN:VCALENDAR
VERSION:2.0
PRODID:-//FCS - Basket Club de Campo - ECPv6.15.20//NONSGML v1.0//EN
CALSCALE:GREGORIAN
METHOD:PUBLISH
X-WR-CALNAME:FCS - Basket Club de Campo
X-ORIGINAL-URL:https://fcsbasket.com
X-WR-CALDESC:Eventos para FCS - Basket Club de Campo
REFRESH-INTERVAL;VALUE=DURATION:PT1H
X-Robots-Tag:noindex
X-PUBLISHED-TTL:PT1H
BEGIN:VTIMEZONE
TZID:UTC
BEGIN:STANDARD
TZOFFSETFROM:+0000
TZOFFSETTO:+0000
TZNAME:UTC
DTSTART:20240101T000000
END:STANDARD
END:VTIMEZONE
BEGIN:VEVENT
DTSTART;TZID=UTC:20250403T213000
DTEND;TZID=UTC:20250403T233000
DTSTAMP:20260421T084036
CREATED:20250317T172519Z
LAST-MODIFIED:20250401T073851Z
UID:10000086-1743715800-1743723000@fcsbasket.com
SUMMARY:AAUTAD vs FCS/BC CAMPO SENIORES F
DESCRIPTION:21:30 03 ABR 2025
URL:https://fcsbasket.com/evento/aautad-vs-fcs-bc-campo-seniores-f/
LOCATION:NAVE DESPORTOS UTAD\, Rua Nave dos Desportos\, Vila Real\, 5000\, Portugal
CATEGORIES:Jogo
ATTACH;FMTTYPE=image/jpeg:https://fcsbasket.com/wp-content/uploads/2025/03/aautad-fcs-seniores.avif
GEO:41.2830365;-7.7453728
X-APPLE-STRUCTURED-LOCATION;VALUE=URI;X-ADDRESS=NAVE DESPORTOS UTAD Rua Nave dos Desportos Vila Real 5000 Portugal;X-APPLE-RADIUS=500;X-TITLE=Rua Nave dos Desportos:geo:-7.7453728,41.2830365
END:VEVENT
BEGIN:VEVENT
DTSTART;TZID=UTC:20250419T183000
DTEND;TZID=UTC:20250419T203000
DTSTAMP:20260421T084036
CREATED:20250324T092350Z
LAST-MODIFIED:20250325T161155Z
UID:10000087-1745087400-1745094600@fcsbasket.com
SUMMARY:FCS/BC CAMPO vs CTM VILA POUCA DE AGUIAR SENIORES F
DESCRIPTION:18:30 19 ABR 2025
URL:https://fcsbasket.com/evento/fcs-bc-campo-vs-ctm-vila-pouca-de-aguiar-seniores-f-2/
LOCATION:PAVILHÃO MUNICIPAL DE CAMPO\, Tv. de São Domingos 200\, Campo - Valongo\, Porto\, 4440-191\, Portugal
CATEGORIES:Jogo
ATTACH;FMTTYPE=image/jpeg:https://fcsbasket.com/wp-content/uploads/2025/03/fcs-cila-pouca-de-aguiar-senioresf.avif
ORGANIZER;CN="Basket Club de Campo":MAILTO:coordenacao@fcsbasket.com
END:VEVENT
BEGIN:VEVENT
DTSTART;TZID=UTC:20250425T110000
DTEND;TZID=UTC:20250425T130000
DTSTAMP:20260421T084036
CREATED:20250324T095718Z
LAST-MODIFIED:20250424T171849Z
UID:10000089-1745578800-1745586000@fcsbasket.com
SUMMARY:FCS/BC CAMPO vs MAIA BC PLAYGROUND SENIORES F
DESCRIPTION:11:00 25 ABR 2025
URL:https://fcsbasket.com/evento/fcs-bc-campo-vs-maia-bc-playground-seniores-f/
LOCATION:PAVILHÃO MUNICIPAL DE CAMPO\, Tv. de São Domingos 200\, Campo - Valongo\, Porto\, 4440-191\, Portugal
CATEGORIES:Jogo
ATTACH;FMTTYPE=image/jpeg:https://fcsbasket.com/wp-content/uploads/2024/11/fcs-maia.jpg
ORGANIZER;CN="Basket Club de Campo":MAILTO:coordenacao@fcsbasket.com
END:VEVENT
BEGIN:VEVENT
DTSTART;TZID=UTC:20250426T114500
DTEND;TZID=UTC:20250426T134500
DTSTAMP:20260421T084036
CREATED:20250324T100122Z
LAST-MODIFIED:20250424T172308Z
UID:10000090-1745667900-1745675100@fcsbasket.com
SUMMARY:GDB LEÇA vs FCS/BC CAMPO SENIORES F
DESCRIPTION:11:45 26 ABR 2025
URL:https://fcsbasket.com/evento/gdbl-pousadinha-paradela-vs-fcs-bc-campo-seniores-f/
LOCATION:PAVILHÃO MUNICIPAL LEÇA PALMEIRA\, Rua Veloso Salgado\, Leça da Palmeira\, 4450-801\, Portugal
CATEGORIES:Jogo
ATTACH;FMTTYPE=image/jpeg:https://fcsbasket.com/wp-content/uploads/2025/03/GDBL-FCS-SENIORESF.avif
GEO:41.2054559;-8.6933381
X-APPLE-STRUCTURED-LOCATION;VALUE=URI;X-ADDRESS=PAVILHÃO MUNICIPAL LEÇA PALMEIRA Rua Veloso Salgado Leça da Palmeira 4450-801 Portugal;X-APPLE-RADIUS=500;X-TITLE=Rua Veloso Salgado:geo:-8.6933381,41.2054559
END:VEVENT
END:VCALENDAR