BEGIN:VCALENDAR
VERSION:2.0
PRODID:-//FCS - Basket Club de Campo - ECPv6.15.20//NONSGML v1.0//EN
CALSCALE:GREGORIAN
METHOD:PUBLISH
X-ORIGINAL-URL:https://fcsbasket.com
X-WR-CALDESC:Eventos para FCS - Basket Club de Campo
REFRESH-INTERVAL;VALUE=DURATION:PT1H
X-Robots-Tag:noindex
X-PUBLISHED-TTL:PT1H
BEGIN:VTIMEZONE
TZID:UTC
BEGIN:STANDARD
TZOFFSETFROM:+0000
TZOFFSETTO:+0000
TZNAME:UTC
DTSTART:20240101T000000
END:STANDARD
END:VTIMEZONE
BEGIN:VEVENT
DTSTART;TZID=UTC:20260125T093000
DTEND;TZID=UTC:20260125T123000
DTSTAMP:20260421T115611
CREATED:20260120T093649Z
LAST-MODIFIED:20260120T093649Z
UID:10000185-1769333400-1769344200@fcsbasket.com
SUMMARY:CONCENTRAÇÃO MINI 12
DESCRIPTION:25 JAN\n09:30 ÁS 12:30
URL:https://fcsbasket.com/evento/concentracao-mini-12-2/
LOCATION:PAVILHÃO MUNICIPAL DE CAMPO\, Tv. de São Domingos 200\, Campo - Valongo\, Porto\, 4440-191\, Portugal
CATEGORIES:Actividade
ATTACH;FMTTYPE=image/jpeg:https://fcsbasket.com/wp-content/uploads/2026/01/mini1225.01.jpg
ORGANIZER;CN="Basket Club de Campo":MAILTO:coordenacao@fcsbasket.com
END:VEVENT
BEGIN:VEVENT
DTSTART;TZID=UTC:20251129T150000
DTEND;TZID=UTC:20251129T180000
DTSTAMP:20260421T115611
CREATED:20251127T085116Z
LAST-MODIFIED:20251127T090933Z
UID:10000163-1764428400-1764439200@fcsbasket.com
SUMMARY:CONCENTRAÇAO MINI 12
DESCRIPTION:15:00 29 NOV
URL:https://fcsbasket.com/evento/concentracao-mini-12/
LOCATION:PAVILHÃO EBS MÁRIO FONSECA\, R. Jogo da Bola\, NOGUEIRA\, 4620-460\, Portugal
CATEGORIES:Actividade
ATTACH;FMTTYPE=image/jpeg:https://fcsbasket.com/wp-content/uploads/2025/11/MINI12-29.11.jpg
ORGANIZER;CN="Basket Club de Campo":MAILTO:coordenacao@fcsbasket.com
END:VEVENT
BEGIN:VEVENT
DTSTART;TZID=UTC:20251025T093000
DTEND;TZID=UTC:20251025T110000
DTSTAMP:20260421T115611
CREATED:20251020T084951Z
LAST-MODIFIED:20251024T100135Z
UID:10000146-1761384600-1761390000@fcsbasket.com
SUMMARY:ENCONTRO / ACTIVIDADE BABIES
DESCRIPTION:09:30 25 OUT 2025 \nCANCELADO
URL:https://fcsbasket.com/evento/encontro-actividade-babies/
LOCATION:Porto
CATEGORIES:Actividade
ATTACH;FMTTYPE=image/jpeg:https://fcsbasket.com/wp-content/uploads/2025/10/BABIES-25.10.jpg
ORGANIZER;CN="Basket Club de Campo":MAILTO:coordenacao@fcsbasket.com
END:VEVENT
BEGIN:VEVENT
DTSTART;TZID=UTC:20250315T150000
DTEND;TZID=UTC:20250315T183000
DTSTAMP:20260421T115611
CREATED:20250312T145323Z
LAST-MODIFIED:20250313T173227Z
UID:10000081-1742050800-1742063400@fcsbasket.com
SUMMARY:12H MINIBASQUETE
DESCRIPTION:15 MARÇO\n12 HORAS MINIBASQUETE\nLOUSADA – PAVILHÃO DESPORTIVO DE NOGUEIRA\n15:00 1 JOGO\n16:30 2 JOGO\n15:20 3 JOGO
URL:https://fcsbasket.com/evento/12h-minibasquete/
LOCATION:PAVILHÃO MUNICIPAL DE NOGUEIRA\, R. Jogo da Bola\, Nogueira\, 4620-460\, Portugal
CATEGORIES:Actividade
ATTACH;FMTTYPE=image/jpeg:https://fcsbasket.com/wp-content/uploads/2025/03/12HORASMINIBASKET.avif
END:VEVENT
END:VCALENDAR