BEGIN:VCALENDAR
VERSION:2.0
PRODID:-//FCS - Basket Club de Campo - ECPv6.15.20//NONSGML v1.0//EN
CALSCALE:GREGORIAN
METHOD:PUBLISH
X-WR-CALNAME:FCS - Basket Club de Campo
X-ORIGINAL-URL:https://fcsbasket.com
X-WR-CALDESC:Eventos para FCS - Basket Club de Campo
REFRESH-INTERVAL;VALUE=DURATION:PT1H
X-Robots-Tag:noindex
X-PUBLISHED-TTL:PT1H
BEGIN:VTIMEZONE
TZID:UTC
BEGIN:STANDARD
TZOFFSETFROM:+0000
TZOFFSETTO:+0000
TZNAME:UTC
DTSTART:20250101T000000
END:STANDARD
END:VTIMEZONE
BEGIN:VEVENT
DTSTART;TZID=UTC:20260425T160000
DTEND;TZID=UTC:20260425T180000
DTSTAMP:20260425T020017
CREATED:20260424T072914Z
LAST-MODIFIED:20260424T075058Z
UID:10000221-1777132800-1777140000@fcsbasket.com
SUMMARY:BASKET CLUB DE CAMPO VS FC PORTO B SUB 14M
DESCRIPTION:16:00 25 ABR 2026
URL:https://fcsbasket.com/evento/basket-club-de-campo-vs-fc-porto-b-sub-14m/
LOCATION:PAVILHÃO MUNICIPAL DE SOBRADO\, Tv. de Campelo\, Sobrado\, 4440-452\, Portugal
CATEGORIES:Jogo
ATTACH;FMTTYPE=image/jpeg:https://fcsbasket.com/wp-content/uploads/2026/04/FCS-PORTO-SUB14M.jpg
ORGANIZER;CN="Basket Club de Campo":MAILTO:coordenacao@fcsbasket.com
END:VEVENT
END:VCALENDAR